BEGIN:VCALENDAR
VERSION:2.0
CALSCALE:GREGORIAN
METHOD:PUBLISH
PRODID://EWM4//208647
BEGIN:VEVENT
DTSTAMP:20260420T181902
VTIMEZONE:Europe/Berlin
DTSTART:20260430T170000Z
DTEND:20260430T193000Z
UID:208647
SUMMARY:EWMD Bayern | Stammtisch am 30.04.2026
LOCATION:Restaurant La Forchetta, Grete-Mosheim-StraÃŸe 15, MÃ¼nchen, 80636
DESCRIPTION:EWMD Bayern | Stammtisch am 30.04.2026\n\n04/30/26 07:00 PM CET\n - 04/30/26 09:30 PM CET\Description:\nZusammensitzen, erzählen, zuhören, die Verbindung halten.\n\nAlle EWMD Mitglieder sind herzlich willkommen, dieses Treffen zum Netzwerken zu nutzen. \nDer Stammtisch findet am Donnerstag 30.04.2026, im Restaurant La Forchetta statt. \n\n19 Uhr\n\n	Restaurant La Forchetta\n	Grete-Mosheim-Straße 15, München\n	Parken ist um das Restaurant herum möglich: Grete-Mosheim/Erika-Mann/Bernhard-Wicki-Straße\n	mit den Öffentlichen: S-Bahnhof Hackerbrücke \n\n Wir freuen uns auf Jede, die uns Gesellschaft leistet. Um kurze Anmeldung wird gebeten, damit wir planen können. Danke!\n\nHerzliche Grüße\nEure Theresa\n\n \Location:\nRestaurant La Forchetta\nGrete-Mosheim-StraÃŸe 15\nMÃ¼nchen,  80636
X-ALT-DESC;FMTTYPE=text/html:EWMD Bayern | Stammtisch am 30.04.2026<br /><br />04/30/26 07:00 PM CET - 04/30/26 09:30 PM CET<br />Description:<br /><span style="font-size:14px"><span style="font-family:tahoma,geneva,sans-serif">Zusammensitzen, erz&auml;hlen, zuh&ouml;ren, die Verbindung halten.<br />
<br />
Alle EWMD Mitglieder sind herzlich willkommen, dieses Treffen zum Netzwerken zu nutzen.&nbsp;</span></span><br />
<span style="font-size:14px"><span style="font-family:tahoma,geneva,sans-serif">Der Stammtisch findet am<strong> Donnerstag 30.04.2026,</strong> im&nbsp;Restaurant La Forchetta statt.&nbsp;</span></span><br />
<br />
<span style="font-size:14px"><span style="font-family:tahoma,geneva,sans-serif">19 Uhr</span></span>
<ul>
	<li><span style="font-size:14px"><span style="font-family:tahoma,geneva,sans-serif">Restaurant La Forchetta</span></span></li>
	<li><span style="font-size:14px"><span style="font-family:tahoma,geneva,sans-serif">Grete-Mosheim-Stra&szlig;e 15, M&uuml;nchen</span></span></li>
	<li><span style="font-size:14px"><span style="font-family:tahoma,geneva,sans-serif">Parken ist um das Restaurant herum m&ouml;glich: Grete-Mosheim/Erika-Mann/Bernhard-Wicki-Stra&szlig;e</span></span></li>
	<li><span style="font-size:14px"><span style="font-family:tahoma,geneva,sans-serif">mit den &Ouml;ffentlichen: S-Bahnhof Hackerbr&uuml;cke&nbsp;</span></span></li>
</ul>
<span style="font-size:14px"><span style="font-family:tahoma,geneva,sans-serif"> </span></span><span style="font-size:14px">Wir&nbsp;freuen uns auf Jede, die uns Gesellschaft leistet. Um kurze Anmeldung wird gebeten, damit wir planen k&ouml;nnen. Danke!</span><br />
<br />
<span style="font-size:14px"><span style="font-family:tahoma,geneva,sans-serif">Herzliche Gr&uuml;&szlig;e<br />
Eure Theresa</span></span><br />
<br />
&nbsp;<br />Location:<br />Restaurant La Forchetta<br />Grete-Mosheim-StraÃŸe 15<br />MÃ¼nchen,  80636
PRIORITY:3
TRANSP:TRANSPARENT
BEGIN:VALARM
TRIGGER:-PT5M
ACTION:DISPLAY
DESCRIPTION:Reminder
END:VALARM
END:VEVENT
END:VCALENDAR
