BEGIN:VCALENDAR
VERSION:2.0
CALSCALE:GREGORIAN
METHOD:PUBLISH
PRODID://EWM4//210358
BEGIN:VEVENT
DTSTAMP:20260420T195449
VTIMEZONE:Europe/Berlin
DTSTART:20260616T160000Z
DTEND:20260616T190000Z
UID:210358
SUMMARY:EWMD Rhein-Main | 101 Frauenorte in Frankfurt â€“ Frankfurt aus der weiblichen Perspektive (16.06.26)
LOCATION:Kaiserdom, Domplatz 1, Frankfurt am Main, 60311
DESCRIPTION:EWMD Rhein-Main | 101 Frauenorte in Frankfurt â€“ Frankfurt aus der weiblichen Perspektive (16.06.26)\n\n06/16/26 06:00 PM CET\n - 06/16/26 09:00 PM CET\Description:\nLiebe EWMD-Mitglieder, liebe Gäste,\n\nentdeckt mit Autorin Sabine Börchers spannende Frauenorte in Frankfurt!\n\nDie langjährige Lokaljournalistin stellt Highlights aus ihrem Buch „101 Frauenorte" vor – von Frankfurts erster Bürgerin über eine traurige Madonna bis zur Bankwesen-Pionierin. Freut Euch auf eine inspirierende Tour.\n\nDer Streifzug beginnt bei der ersten Frankfurterin im Dom, führt über einen aktuellen Frauenort in der Saalgasse zu einer besonderen Glaskünstlerin in der Alten Nikolaikirche. Weiter geht es über den Römerberg an der Madonna Ursula und der Justitia vorbei zum Frauenstein – einem Teil des Rathauses Römer – und in die frühere Kälbergasse, wo im 18. Jahrhundert eine Frau eine Bank gründete. Den Abschluss bildet das „Steinerne Haus“ in der Braubachstraße, wo 1930 der erste Frauenfußballverein Deutschlands entstand.\n\nWir freuen uns auf eine inspirierende Tour mit Euch.\n\nViele Grüße von Ute Gerhardt und dem Agilen Team des EWMD Rhein-Main\n\nOrganisatorisches:\n\nDatum: Dienstag, 16. Juni 2026 um 18.00 Uhr\n\nTreffpunkt und Startzeit Stadtrundgang: Kaiserdom, Domplatz 1, 60311 Frankfurt. Die Tour beginnt pünktlich um 18.00 Uhr.\n\nEndpunkt und -zeit: 19.30 Uhr, Steinernes Haus, Braubachstr. 35, Frankfurt. Danach gemeinsames Netzwerken im Restaurant "Margarete" neben dem Steinernen Haus\n\nParken: Parkhaus Dom Römer, Domstraße 1, 60311 Frankfurt\n\nAnzahl Teilnehmer/innen: max. 25 Personen\n\nOrganisation und Kontakt: rhein-main@ewmd.org\n\n\n\n \n\Location:\nKaiserdom\nDomplatz 1\nFrankfurt am Main,  60311
X-ALT-DESC;FMTTYPE=text/html:EWMD Rhein-Main | 101 Frauenorte in Frankfurt â€“ Frankfurt aus der weiblichen Perspektive (16.06.26)<br /><br />06/16/26 06:00 PM CET - 06/16/26 09:00 PM CET<br />Description:<br /><p data-pm-slice="1 1 []"><span style="font-size:14px"><span style="font-family:tahoma,geneva,sans-serif">Liebe EWMD-Mitglieder, liebe G&auml;ste,</span></span></p>

<p><span style="font-size:14px"><span style="font-family:tahoma,geneva,sans-serif">entdeckt mit Autorin Sabine B&ouml;rchers spannende Frauenorte in Frankfurt!<br />
<br />
Die langj&auml;hrige Lokaljournalistin stellt Highlights aus ihrem Buch <strong>&bdquo;101 Frauenorte&quot; </strong>vor &ndash; von Frankfurts erster B&uuml;rgerin &uuml;ber eine traurige Madonna bis zur Bankwesen-Pionierin. Freut Euch auf eine inspirierende Tour.</span></span></p>

<p><span style="font-size:14px"><span style="font-family:tahoma,geneva,sans-serif">Der Streifzug beginnt bei der ersten Frankfurterin im Dom, f&uuml;hrt &uuml;ber einen aktuellen Frauenort in der Saalgasse zu einer besonderen Glask&uuml;nstlerin in der Alten Nikolaikirche. Weiter geht es &uuml;ber den R&ouml;merberg an der Madonna Ursula und der Justitia vorbei zum Frauenstein &ndash; einem Teil des Rathauses R&ouml;mer &ndash; und in die fr&uuml;here K&auml;lbergasse, wo im 18. Jahrhundert eine Frau eine Bank gr&uuml;ndete. Den Abschluss bildet das &bdquo;Steinerne Haus&ldquo; in der Braubachstra&szlig;e, wo 1930 der erste Frauenfu&szlig;ballverein Deutschlands entstand.</span></span></p>

<p><span style="font-size:14px"><span style="font-family:tahoma,geneva,sans-serif">Wir freuen uns auf eine inspirierende Tour mit Euch.</span></span></p>

<p><span style="font-size:14px"><span style="font-family:tahoma,geneva,sans-serif">Viele Gr&uuml;&szlig;e von Ute Gerhardt und dem Agilen Team des EWMD Rhein-Main</span></span></p>

<p><strong><span style="font-size:14px"><span style="font-family:tahoma,geneva,sans-serif">Organisatorisches:</span></span></strong></p>

<p><span style="font-size:14px"><span style="font-family:tahoma,geneva,sans-serif"><strong>Datum: </strong>Dienstag, 16. Juni 2026 um 18.00 Uhr</span></span></p>

<p><span style="font-size:14px"><span style="font-family:tahoma,geneva,sans-serif"><strong>Treffpunkt und Startzeit Stadtrundgang:</strong> Kaiserdom, Domplatz 1, 60311 Frankfurt. Die Tour beginnt p&uuml;nktlich um 18.00 Uhr.</span></span></p>

<p><span style="font-size:14px"><span style="font-family:tahoma,geneva,sans-serif"><strong>Endpunkt und -zeit:&nbsp;</strong>19.30 Uhr, Steinernes Haus, Braubachstr. 35, Frankfurt. Danach gemeinsames Netzwerken im Restaurant &quot;Margarete&quot; neben dem Steinernen Haus</span></span></p>

<p><span style="font-size:14px"><span style="font-family:tahoma,geneva,sans-serif"><strong>Parken:</strong> Parkhaus Dom R&ouml;mer, Domstra&szlig;e 1, 60311 Frankfurt</span></span></p>

<p><span style="font-size:14px"><span style="font-family:tahoma,geneva,sans-serif"><strong>Anzahl Teilnehmer/innen:</strong> max. 25 Personen</span></span></p>

<p><span style="font-size:14px"><span style="font-family:tahoma,geneva,sans-serif"><strong>Organisation und Kontakt:</strong>&nbsp;<a href="mailto:rhein-main@ewmd.org" rel="noopener noreferrer nofollow" target="_blank">rhein-main@ewmd.org</a></span></span></p>

<p><br />
<br />
&nbsp;</p>
<br />Location:<br />Kaiserdom<br />Domplatz 1<br />Frankfurt am Main,  60311
PRIORITY:3
TRANSP:TRANSPARENT
BEGIN:VALARM
TRIGGER:-PT5M
ACTION:DISPLAY
DESCRIPTION:Reminder
END:VALARM
END:VEVENT
END:VCALENDAR
