BEGIN:VCALENDAR
VERSION:2.0
CALSCALE:GREGORIAN
METHOD:PUBLISH
PRODID://EWM4//212397
BEGIN:VEVENT
DTSTAMP:20260420T195412
VTIMEZONE:Europe/Berlin
DTSTART:20260527T163000Z
DTEND:20260527T183000Z
UID:212397
SUMMARY:EWMD BaWue Mittwoch 27.05.26 StromnetzstabilitÃ¤t mit Mirjam KÃ¶nig PrÃ¤senz und online
LOCATION:, Berlin
DESCRIPTION:EWMD BaWue Mittwoch 27.05.26 StromnetzstabilitÃ¤t mit Mirjam KÃ¶nig PrÃ¤senz und online\n\n05/27/26 06:30 PM MEA\n - 05/27/26 08:30 PM MEA\Description:\nSave The Date Mi 27.05.2026 Stuttgart\n\nnur Draft Einladung folgt \n\nEinladung „Stromnetzstabilität – mit Mirjam König“am Mittwoch 27.05.2026 Hybrid \nca. 18:30 – 20:30 Uhr in Stuttgart und Online via zoom  \n \nLiebe EWMD members, liebe Gäste,\nEin Thema, das uns alle angeht und nur einem kleinen Kreis bekannt ist,\nsind die Themen rund um die Netzstabilität. Wir sind es gewohnt, dass der Strom immer aus der Steckdose kommt,\naber wer kennt „Dunkelflaute“ und „Höchstspannungsnetz“?\nMirjam König führt uns in die Hintergründe der Stromnetz - Stabilität ein.  \n \nDiesmal treffen wir uns im Hotel „Jaz in the City Stuttgart, Wolframstraße 41, 70191 Stuttgart am Milaneo.\nDanach bekommen wir dort noch Abendessen a la Carte ìn der „Wolfram Bar + Terrace“.\n\nLiebe Grüsse,\nDr. Antigoni Chrysostomou, Bronia Szczesniak, Beate Zifreund\n \n \Location:\n\n\nBerlin,
X-ALT-DESC;FMTTYPE=text/html:EWMD BaWue Mittwoch 27.05.26 StromnetzstabilitÃ¤t mit Mirjam KÃ¶nig PrÃ¤senz und online<br /><br />05/27/26 06:30 PM MEA - 05/27/26 08:30 PM MEA<br />Description:<br /><strong>Save The Date Mi 27.05.2026 Stuttgart</strong><br />
<br />
nur Draft Einladung folgt&nbsp;<br />
<br />
<strong>Einladung &bdquo;Stromnetzstabilit&auml;t &ndash; mit Mirjam K&ouml;nig&ldquo;am Mittwoch 27.05.2026 Hybrid </strong><br />
ca. 18:30 &ndash; 20:30 Uhr in Stuttgart und Online via zoom &nbsp;<br />
&nbsp;<br />
Liebe EWMD members, liebe G&auml;ste,<br />
Ein Thema, das uns alle angeht und nur einem kleinen Kreis bekannt ist,<br />
sind die Themen rund um die Netzstabilit&auml;t.&nbsp;Wir sind es gewohnt, dass der Strom immer aus der Steckdose kommt,<br />
aber wer kennt &bdquo;Dunkelflaute&ldquo; und &bdquo;H&ouml;chstspannungsnetz&ldquo;?<br />
Mirjam K&ouml;nig f&uuml;hrt uns in die Hintergr&uuml;nde der Stromnetz - Stabilit&auml;t ein. &nbsp;<br />
&nbsp;<br />
Diesmal treffen wir uns im Hotel &bdquo;Jaz in the City Stuttgart, Wolframstra&szlig;e 41, 70191 Stuttgart am Milaneo.<br />
Danach bekommen wir dort noch Abendessen a la Carte &igrave;n der &bdquo;Wolfram Bar + Terrace&ldquo;.<br />
<br />
Liebe Gr&uuml;sse,<br />
Dr. Antigoni Chrysostomou, Bronia Szczesniak, Beate Zifreund<br />
&nbsp;<br />
&nbsp;<br />Location:<br /><br /><br />Berlin,  
PRIORITY:3
TRANSP:TRANSPARENT
BEGIN:VALARM
TRIGGER:-PT5M
ACTION:DISPLAY
DESCRIPTION:Reminder
END:VALARM
END:VEVENT
END:VCALENDAR
