BEGIN:VCALENDAR
VERSION:2.0
CALSCALE:GREGORIAN
METHOD:PUBLISH
PRODID://EWM4//212438
BEGIN:VEVENT
DTSTAMP:20260420T181417
VTIMEZONE:Europe/Berlin
DTSTART:20260505T103000Z
DTEND:20260505T120000Z
UID:212438
SUMMARY:EWMD Nord | Business-Lunch (5.5.26)
LOCATION:Ristorante Pizzeria Arione, DeichstraÃŸe 17, Hamburg, 22459
DESCRIPTION:EWMD Nord | Business-Lunch (5.5.26)\n\n05/05/26 12:30 PM CET\n - 05/05/26 02:00 PM CET\Description:\nLiebe EWMD-Member und an EWMD-Interessierte,\n\nes ist wieder so weit, wir laden zum Business-Lunch des EWMD Nord ein.\n\nAuch diesmal möchten wir wieder in lockerer Atmosphäre gemeinsam unsere Mittagspause verbringen, einander (besser) kennenlernen, Netzwerken und allen an EWMD Interessierten Gelegenheit geben, mehr über unser Business-Netzwerk zu erfahren.\n\nWir treffen uns in allen ungeraden Monaten jeweils dienstags, von 12.30h - 14.00 h. \n\nDas Restaurant „Arione“ ist in der Nähe vom Rödingsmarkt gelegen und bietet vielfältige italienische Küche.\n\nDa unsere Plätze begrenzt sind und das Restaurant planen muss, bitten wir um verlässliche Anmeldung bis spätestens Freitag, 1.5.2026 (Link zur Registrierung s.u.). Die Business Lunches sind Selbstzahler-Events, der EWMD erhebt keine zusätzlichen Gebühren.\n\nSollte es Probleme bei der Registrierung geben, nehmen wir die Anmeldung gerne auch über die angegebene Kontaktadresse an.\n\nWir freuen uns schon sehr auf Sie/Euch!\n\nHerzliche Grüße vom EWMD Nord\nHilde und Elvira\Location:\nRistorante Pizzeria Arione\nDeichstraÃŸe 17\nHamburg,  22459
X-ALT-DESC;FMTTYPE=text/html:EWMD Nord | Business-Lunch (5.5.26)<br /><br />05/05/26 12:30 PM CET - 05/05/26 02:00 PM CET<br />Description:<br /><span style="font-family:tahoma,geneva,sans-serif"><span style="font-size:16px">Liebe EWMD-Member und an EWMD-Interessierte,<br />
<br />
es ist wieder so weit, wir laden zum Business-Lunch des EWMD Nord ein.<br />
<br />
Auch diesmal m&ouml;chten wir wieder in lockerer Atmosph&auml;re gemeinsam unsere Mittagspause verbringen, einander (besser) kennenlernen, Netzwerken und allen an EWMD Interessierten Gelegenheit geben, mehr &uuml;ber unser Business-Netzwerk zu erfahren.<br />
<br />
Wir treffen uns in allen ungeraden Monaten jeweils dienstags, von 12.30h - 14.00 h.&nbsp;<br />
<br />
Das Restaurant &bdquo;Arione&ldquo; ist in der N&auml;he vom R&ouml;dingsmarkt gelegen und bietet vielf&auml;ltige italienische K&uuml;che.<br />
<br />
Da unsere Pl&auml;tze begrenzt sind und das Restaurant planen muss, bitten wir um verl&auml;ssliche Anmeldung bis sp&auml;testens Freitag, 1.5.2026 (Link zur Registrierung s.u.). Die Business Lunches sind Selbstzahler-Events, der EWMD erhebt keine zus&auml;tzlichen Geb&uuml;hren.<br />
<br />
Sollte es Probleme bei der Registrierung geben, nehmen wir die Anmeldung gerne auch &uuml;ber die angegebene Kontaktadresse an.<br />
<br />
Wir freuen uns schon sehr auf Sie/Euch!<br />
<br />
Herzliche Gr&uuml;&szlig;e vom EWMD Nord<br />
Hilde und Elvira</span></span><br />Location:<br />Ristorante Pizzeria Arione<br />DeichstraÃŸe 17<br />Hamburg,  22459
PRIORITY:3
TRANSP:TRANSPARENT
BEGIN:VALARM
TRIGGER:-PT5M
ACTION:DISPLAY
DESCRIPTION:Reminder
END:VALARM
END:VEVENT
END:VCALENDAR
