BEGIN:VCALENDAR
VERSION:2.0
CALSCALE:GREGORIAN
METHOD:PUBLISH
PRODID://VCPA//106117
BEGIN:VEVENT
DTSTAMP:20260421T214648
VTIMEZONE:America/New_York
DTSTART:20201110T130000Z
DTEND:20201110T143000Z
UID:106117
SUMMARY:Government Contracting SIG - Out of Chaos, Comes Clarity  
LOCATION:Zoom Virtual Meeting, VA
DESCRIPTION:Government Contracting SIG - Out of Chaos, Comes Clarity  \n\n11/10/20 08:00 AM EST\n - 11/10/20 09:30 AM EST\Description:\nTopic: “Out of Chaos, Comes Clarity”\nUsing simple Project Management tools to organize and manage your work, your projects, your daily life\n \nAn organization with no formal process or structure for completing projects or managing day to day activities is an organization in chaos.\nAs hard as it is to adapt to change by following a consistent routine, it’s imperative if you want to bring your company into a position\nwhere you have a step by step process that ensures projects are managed and controlled calmly throughout.\n \nThis presentation will introduce you to basic PM tools and methodologies that can be implemented in any organization on any engagement.\nThese will help you stay on top of your projects and sure a smooth even flow from Kick off to Close out.\n\nObjectives: \n\n	Understanding the scope of the work and sticking to it\n	Utilizing resources in the most efficient way\n	Improving communication\n	Planning and implementing\n	Monitoring and controlling, both budget and work\n\n\nMake Project management your ally to reach project nirvana.\n\nBenefits:  1 hour of CPE(offered to Northern Chapter VSCPA members; guests pay $15)\n\nTime:   Speaker starts at 8:00 AM, done by 9:30 AM\n\nSpeaker: Warren Beinart, PMP\n                 Director, Industry Specialty Services Group - PMO\n\n \n\Location:\nZoom Virtual Meeting\n\n, VA
X-ALT-DESC;FMTTYPE=text/html:Government Contracting SIG - Out of Chaos, Comes Clarity  <br /><br />11/10/20 08:00 AM EST - 11/10/20 09:30 AM EST<br />Description:<br /><strong><span style="font-size:14px;">Topic:</span><em> &ldquo;Out of Chaos, Comes Clarity&rdquo;</em></strong><br />
<strong>Using simple Project Management tools to organize and manage your work, your projects, your daily life</strong><br />
&nbsp;<br />
<em>An organization with no formal process or structure for completing projects or managing day to day activities is an organization in chaos.</em><br />
<em>As hard as it is to adapt to change by following a consistent routine, it&rsquo;s imperative if you want to bring your company into a position</em><br />
<em>where you have a step by step process that ensures projects are managed and controlled calmly throughout.</em><br />
&nbsp;<br />
<em>This presentation will introduce you to basic PM tools and methodologies that can be implemented in any organization on any engagement.</em><br />
<em>These will help you stay on top of your projects and sure a smooth even flow from Kick off to Close out.</em><br />
<br />
<span style="font-size:14px;"><strong>Objectives:&nbsp;</strong></span>
<ul>
	<li><em>Understanding the scope of the work and sticking to it</em></li>
	<li><em>Utilizing resources in the most efficient way</em></li>
	<li><em>Improving communication</em></li>
	<li><em>Planning and implementing</em></li>
	<li><em>Monitoring and controlling, both budget and work</em></li>
</ul>
<br />
<em>Make Project management your ally to reach project nirvana.</em>

<p><strong><span style="font-size:14px;">Benefits:</span>&nbsp;</strong>&nbsp;1 hour of CPE(offered to Northern Chapter VSCPA members; guests pay $15)</p>

<p><strong><span style="font-size:14px;">Time:&nbsp;</span>&nbsp;</strong>&nbsp;Speaker starts at 8:00 AM, done by 9:30 AM<br />
<br />
<span style="font-size:14px;"><strong>Speaker:</strong></span>&nbsp;Warren Beinart, PMP<br />
&nbsp;&nbsp;&nbsp;&nbsp;&nbsp;&nbsp;&nbsp;&nbsp;&nbsp;&nbsp;&nbsp;&nbsp;&nbsp;&nbsp;&nbsp;&nbsp;&nbsp;Director, Industry Specialty Services Group - PMO<br />
<br />
&nbsp;</p>
<br />Location:<br />Zoom Virtual Meeting<br /><br />, VA 
PRIORITY:3
TRANSP:TRANSPARENT
BEGIN:VALARM
TRIGGER:-PT5M
ACTION:DISPLAY
DESCRIPTION:Reminder
END:VALARM
END:VEVENT
END:VCALENDAR
