BEGIN:VCALENDAR
VERSION:2.0
CALSCALE:GREGORIAN
METHOD:PUBLISH
PRODID://IWEA//119242
BEGIN:VEVENT
DTSTAMP:20260424T233045
VTIMEZONE:America/Chicago
DTSTART:20251225T060000Z
DTEND:20251226T054500Z
UID:119242
SUMMARY:Christmas
LOCATION:IWEA
DESCRIPTION:Christmas\n\n12/25/25 12:00 AM CST\n - 12/25/25 11:45 PM CST\Description:\nWidely celebrated around the world....\Location:\nIWEA\n\n,
X-ALT-DESC;FMTTYPE=text/html:Christmas<br /><br />12/25/25 12:00 AM CST - 12/25/25 11:45 PM CST<br />Description:<br />Widely celebrated around the world....<br />Location:<br />IWEA<br /><br />,  
PRIORITY:3
TRANSP:TRANSPARENT
BEGIN:VALARM
TRIGGER:-PT5M
ACTION:DISPLAY
DESCRIPTION:Reminder
END:VALARM
END:VEVENT
END:VCALENDAR
