BEGIN:VCALENDAR
VERSION:2.0
CALSCALE:GREGORIAN
METHOD:PUBLISH
PRODID://IWEA//119260
BEGIN:VEVENT
DTSTAMP:20260424T170455
VTIMEZONE:America/Chicago
DTSTART:20260119T060000Z
DTEND:20260120T054500Z
UID:119260
SUMMARY:Martin Luther King Day
LOCATION:IWEA
DESCRIPTION:Martin Luther King Day\n\n01/19/26 12:00 AM CST\n - 01/19/26 11:45 PM CST\Location:\nIWEA\n\n,
X-ALT-DESC;FMTTYPE=text/html:Martin Luther King Day<br /><br />01/19/26 12:00 AM CST - 01/19/26 11:45 PM CST<br />Location:<br />IWEA<br /><br />,  
PRIORITY:3
TRANSP:TRANSPARENT
BEGIN:VALARM
TRIGGER:-PT5M
ACTION:DISPLAY
DESCRIPTION:Reminder
END:VALARM
END:VEVENT
END:VCALENDAR
