BEGIN:VCALENDAR
VERSION:2.0
CALSCALE:GREGORIAN
METHOD:PUBLISH
PRODID://IWEA//119262
BEGIN:VEVENT
DTSTAMP:20260425T133918
VTIMEZONE:America/Chicago
DTSTART:20260525T050000Z
DTEND:20260526T044500Z
UID:119262
SUMMARY:Memorial Day
LOCATION:IWEA
DESCRIPTION:Memorial Day\n\n05/25/26 12:00 AM CST\n - 05/25/26 11:45 PM CST\Location:\nIWEA\n\n,
X-ALT-DESC;FMTTYPE=text/html:Memorial Day<br /><br />05/25/26 12:00 AM CST - 05/25/26 11:45 PM CST<br />Location:<br />IWEA<br /><br />,  
PRIORITY:3
TRANSP:TRANSPARENT
BEGIN:VALARM
TRIGGER:-PT5M
ACTION:DISPLAY
DESCRIPTION:Reminder
END:VALARM
END:VEVENT
END:VCALENDAR
