BEGIN:VCALENDAR
VERSION:2.0
CALSCALE:GREGORIAN
METHOD:PUBLISH
PRODID://IWEA//156129
BEGIN:VEVENT
DTSTAMP:20260424T183821
VTIMEZONE:America/Chicago
DTSTART:20260310T130000Z
DTEND:20260312T220000Z
UID:156129
SUMMARY:IAWA Mini-Conference
LOCATION:IWEA
DESCRIPTION:IAWA Mini-Conference\n\n03/10/26 08:00 AM CST\n - 03/12/26 05:00 PM CST\Description:\nSee Illinois Association of Wastewater Agencies :: Home (ilwastewater.org) for more information. \Location:\nIWEA\n\n,
X-ALT-DESC;FMTTYPE=text/html:IAWA Mini-Conference<br /><br />03/10/26 08:00 AM CST - 03/12/26 05:00 PM CST<br />Description:<br />See&nbsp;<a href="https://ilwastewater.org/">Illinois Association of Wastewater Agencies :: Home (ilwastewater.org)</a>&nbsp;for more information.&nbsp;<br />Location:<br />IWEA<br /><br />,  
PRIORITY:3
TRANSP:TRANSPARENT
BEGIN:VALARM
TRIGGER:-PT5M
ACTION:DISPLAY
DESCRIPTION:Reminder
END:VALARM
END:VEVENT
END:VCALENDAR
