BEGIN:VCALENDAR
VERSION:2.0
CALSCALE:GREGORIAN
METHOD:PUBLISH
PRODID://GCAC//195580
BEGIN:VEVENT
DTSTAMP:20260425T135233
VTIMEZONE:America/Phoenix
DTSTART:20251023T220000Z
DTEND:20251024T010000Z
UID:195580
SUMMARY:Pumpkins and Snowmen using Templates (Sandi Schulzetenberg)
LOCATION:Grand Clay Arts Studio
DESCRIPTION:Pumpkins and Snowmen using Templates (Sandi Schulzetenberg)\n\n10/23/25 03:00 PM MT\n - 10/23/25 06:00 PM MT\Description:\nPumpkins and Snowmen Using Templates\n\nDate and Times:                     Oct 23 and 30, 2025 - 3:00 - 6:00 PM \nNumber of Sessions:            Two - 3 Hour Sessions \nCourse Fee:                            $40.00 \n\nDescription:\nMake a pumpkin using templates.  They can be realistic or whimsical.  Completing your peices with glazes and/or underglazes will also be reviewed, but completed on own.  The process can aslo be used to create snowmen.\nThis is an excellent class for beginners to add construction processes to their skill set.\n\nParticipants will learn:\n- forming using a pinch pot method\n- to use templates to create forms\n\nMaterials:\nClay of choice and basic clay tools. \n\nClass Information: \n\n	Skill Level - Beginner \n	Number of Students - 3 Minimum  8 Maximum \n\n\n \n\Location:\nGrand Clay Arts Studio\n\n,
X-ALT-DESC;FMTTYPE=text/html:Pumpkins and Snowmen using Templates (Sandi Schulzetenberg)<br /><br />10/23/25 03:00 PM MT - 10/23/25 06:00 PM MT<br />Description:<br /><font face="arial, helvetica, sans-serif"><span style="font-size:20px"><strong>Pumpkins and Snowmen Using Templates</strong></span></font><br />
<br />
<strong>Date and Times: &nbsp; &nbsp; &nbsp; &nbsp; &nbsp; &nbsp; &nbsp; &nbsp; &nbsp; &nbsp; Oct 23 and 30, 2025 - 3:00 - 6:00 PM&nbsp;<br />
Number of Sessions: &nbsp; &nbsp; &nbsp; &nbsp; &nbsp; &nbsp;Two - 3 Hour Sessions&nbsp;<br />
Course Fee:&nbsp;&nbsp;&nbsp;&nbsp;&nbsp;&nbsp;&nbsp;&nbsp;&nbsp;&nbsp;&nbsp;&nbsp;&nbsp;&nbsp;&nbsp;&nbsp;&nbsp;&nbsp;&nbsp;&nbsp;&nbsp;&nbsp;&nbsp;&nbsp;&nbsp; &nbsp; $40.00&nbsp;<br />
<br />
Description:</strong><br />
Make a pumpkin using templates. &nbsp;They can be realistic or whimsical. &nbsp;Completing your peices with glazes and/or underglazes will also be reviewed, but completed on own. &nbsp;The process can aslo be used to create snowmen.<br />
This is an excellent class for beginners to add construction processes to their skill set.<br />
<br />
Participants will learn:<br />
- forming using a pinch pot method<br />
- to use templates to create forms<br />
<br />
<strong>Materials:</strong><br />
Clay of choice and basic clay tools.&nbsp;<br />
<br />
<strong>Class Information:&nbsp;</strong>
<ul>
	<li>Skill Level - Beginner&nbsp;</li>
	<li>Number of Students - 3 Minimum&nbsp; 8 Maximum&nbsp;</li>
</ul>

<div style="text-align: center;">&nbsp;</div>
<br />Location:<br />Grand Clay Arts Studio<br /><br />,  
PRIORITY:3
TRANSP:TRANSPARENT
BEGIN:VALARM
TRIGGER:-PT5M
ACTION:DISPLAY
DESCRIPTION:Reminder
END:VALARM
END:VEVENT
END:VCALENDAR
