BEGIN:VCALENDAR
VERSION:2.0
CALSCALE:GREGORIAN
METHOD:PUBLISH
PRODID://GCAC//196041
BEGIN:VEVENT
DTSTAMP:20260425T103022
VTIMEZONE:America/Phoenix
DTSTART:20251111T220000Z
DTEND:20251112T010000Z
UID:196041
SUMMARY:Wheel 1: Nov 4, 6, 11 and 13, 2025 ( Niehof)
LOCATION:Grand Clay Arts Studio
DESCRIPTION:Wheel 1: Nov 4, 6, 11 and 13, 2025 ( Niehof)\n\n11/11/25 03:00 PM MT\n - 11/11/25 06:00 PM MT\Description:\nNumber of Sessions:      Four, three hour sessions\nCourse fee:                    $80.00\nDates and time:              Nov 4, 6, 11 and 13, 2025;  3:00 - 6:00\n\nDescription:\nThis class will provide hands on instruction for students who wish to learn how to create pottery using the wheel.  Instruction will focus on the following skills adn the end product will be throwing a 3"-4" cylinder.\n\nEach student will learn the fundamentals of throwing:\n- Centering\n- Opening\n- Cutting off the wheel or bat\n- Cutting off uneven top\n- Finishing bottom\n- Wedging\n- Reclaiming clay\nAs available, class will include guest demonstrations of skills.  At the completion of this class students should be ready to move on to Wheel 2.\Location:\nGrand Clay Arts Studio\n\n,
X-ALT-DESC;FMTTYPE=text/html:Wheel 1: Nov 4, 6, 11 and 13, 2025 ( Niehof)<br /><br />11/11/25 03:00 PM MT - 11/11/25 06:00 PM MT<br />Description:<br />Number of Sessions: &nbsp;&nbsp;&nbsp;&nbsp;&nbsp;Four, three hour sessions<br />
Course fee:&nbsp;&nbsp;&nbsp;&nbsp;&nbsp;&nbsp;&nbsp;&nbsp;&nbsp;&nbsp;&nbsp;&nbsp;&nbsp;&nbsp;&nbsp;&nbsp;&nbsp; &nbsp; $80.00<br />
Dates and time: &nbsp; &nbsp; &nbsp; &nbsp; &nbsp; &nbsp; &nbsp;Nov 4, 6, 11 and 13, 2025; &nbsp;3:00 - 6:00<br />
<br />
Description:<br />
This class will provide hands on instruction for students who wish to learn how to create pottery using the wheel. &nbsp;Instruction will focus on the following skills adn the end product will be throwing a 3&quot;-4&quot; cylinder.<br />
<br />
Each student will learn the fundamentals of throwing:<br />
- Centering<br />
- Opening<br />
- Cutting off the wheel or bat<br />
- Cutting off uneven top<br />
- Finishing bottom<br />
- Wedging<br />
- Reclaiming clay<br />
As available, class will include guest demonstrations of skills. &nbsp;At the completion of this class students should be ready to move on to Wheel 2.<br />Location:<br />Grand Clay Arts Studio<br /><br />,  
PRIORITY:3
TRANSP:TRANSPARENT
BEGIN:VALARM
TRIGGER:-PT5M
ACTION:DISPLAY
DESCRIPTION:Reminder
END:VALARM
END:VEVENT
END:VCALENDAR
