BEGIN:VCALENDAR
VERSION:2.0
CALSCALE:GREGORIAN
METHOD:PUBLISH
PRODID://BWGC//198825
BEGIN:VEVENT
DTSTAMP:20260425T164727
VTIMEZONE:America/New_York
DTSTART:20260302T200000Z
DTEND:20260302T210000Z
UID:198825
SUMMARY:REDI Committee Meeting
LOCATION:
DESCRIPTION:REDI Committee Meeting\n\n03/02/26 03:00 PM EST\n - 03/02/26 04:00 PM EST
X-ALT-DESC;FMTTYPE=text/html:REDI Committee Meeting<br /><br />03/02/26 03:00 PM EST - 03/02/26 04:00 PM EST
PRIORITY:3
TRANSP:TRANSPARENT
BEGIN:VALARM
TRIGGER:-PT5M
ACTION:DISPLAY
DESCRIPTION:Reminder
END:VALARM
END:VEVENT
END:VCALENDAR
