BEGIN:VCALENDAR
VERSION:2.0
CALSCALE:GREGORIAN
METHOD:PUBLISH
PRODID://VCPA//198906
BEGIN:VEVENT
DTSTAMP:20260421T115953
VTIMEZONE:America/New_York
DTSTART:20251028T120000Z
DTEND:20251028T130000Z
UID:198906
SUMMARY:2025 Annual Cordia Update -- State of the Employment Market
LOCATION:Falls Church Marriott Fairview Park,  3111 Fairview Park Dr, Falls Church, VA, 22042
DESCRIPTION:2025 Annual Cordia Update -- State of the Employment Market\n\n10/28/25 08:00 AM EST\n - 10/28/25 09:00 AM EST\Description:\nCordia will present an overview of the current employment state of the job market from the viewpoint of a staffing firm. We will look at the changes over the last year in the accounting, finance, and human resources fields and discuss how those trends may affect the market going forward.  We will consider some specific aspects that affect accounting professionals.  We will also focus on current trends in how HR interacts with accounting and finance. \n \nPresenters:\nDale Grossman, Management Consultant Director, Interim Senior Management Team\nEvan Seward, Executive Search Director, Accounting and Finance Permanent Search Team\nRosalyn Greeley, HR Search Director, HR Search Team\n\n\nDate: Tuesday, October 28, 2025\nTime:  8:00 - 9:00am\nDelivery: In-Person or Live Virtual Meeting (Zoom meeting information will be sent with your email confirmation.)\nLocation:  Falls Church Marriott Fairview Park | 3111 Fairview Park Dr, Falls Church, VA 22042\nBenefits: 1.0 hour of CPE and lunch included for in-person participants\n(free to Northern Chapter VSCPA members; in-person non-members pay $40,  virtual non-members pay $25)\Location:\nFalls Church Marriott Fairview Park\n 3111 Fairview Park Dr\nFalls Church, VA 22042
X-ALT-DESC;FMTTYPE=text/html:2025 Annual Cordia Update -- State of the Employment Market<br /><br />10/28/25 08:00 AM EST - 10/28/25 09:00 AM EST<br />Description:<br />Cordia will present an overview of the current employment state of the job market from the viewpoint of a staffing firm. We will look at the changes over the last year in the accounting, finance, and human resources fields and discuss how those trends may affect the market going forward. &nbsp;We will consider some specific aspects that affect accounting professionals. &nbsp;We will also focus on current trends in how HR interacts with accounting and finance.&nbsp;<br />
<span style="font-size:14px"><span style="font-family:arial,helvetica,sans-serif">&nbsp;</span></span><br />
<u>Presenters</u>:<br />
Dale Grossman, Management Consultant Director, Interim Senior Management Team<br />
Evan Seward, Executive Search Director, Accounting and Finance Permanent Search Team<br />
Rosalyn Greeley, HR Search Director, HR Search Team<br />
<br />
<br />
<span style="font-size:14px"><span style="font-family:arial,helvetica,sans-serif"><u>Date</u>: Tuesday, October 28, 2025<br />
<u>Time</u>: &nbsp;8:00 - 9:00am<br />
<u>Delivery</u>: In-Person or Live Virtual Meeting (Zoom meeting information will be sent with your email confirmation.)<br />
<u>Location</u>:&nbsp;</span></span> Falls Church Marriott Fairview Park | 3111 Fairview Park Dr, Falls Church, VA 22042<br />
<span style="font-size:14px"><span style="font-family:arial,helvetica,sans-serif"><u>Benefits</u>: 1.0 hour of CPE and lunch included for in-person participants<br />
(free to Northern Chapter VSCPA members; in-person non-members pay $40, &nbsp;virtual non-members pay $25)</span></span><br />Location:<br />Falls Church Marriott Fairview Park<br /> 3111 Fairview Park Dr<br />Falls Church, VA 22042
PRIORITY:3
TRANSP:TRANSPARENT
BEGIN:VALARM
TRIGGER:-PT5M
ACTION:DISPLAY
DESCRIPTION:Reminder
END:VALARM
END:VEVENT
END:VCALENDAR
