BEGIN:VCALENDAR
VERSION:2.0
CALSCALE:GREGORIAN
METHOD:PUBLISH
PRODID://GCAC//198983
BEGIN:VEVENT
DTSTAMP:20260425T165410
VTIMEZONE:America/Phoenix
DTSTART:20251103T220000Z
DTEND:20251104T010000Z
UID:198983
SUMMARY:Wheel Independent Study: Nov 3, 2025 (Jim Perez-Wood)
LOCATION:Grand Clay Arts Studio
DESCRIPTION:Wheel Independent Study: Nov 3, 2025 (Jim Perez-Wood)\n\n11/03/25 03:00 PM MT\n - 11/03/25 06:00 PM MT\Description:\nNumber of Sessions:            One, three-hour sessions \nCourse Fee:                           $20.00\nDates and time:                     Nov 3, 2025; 3:00 - 6:00 PM\n\n\nDescription:\nLIMITED TO THOSE WHO COMPLETED WHEEL 3, or have equivalent skill set as determined by instructor.\n\nThis class will provide hands on guidance to students who wish to create wheel thrown pieces of their own choosing.  Participants will work independently on projects of their own choice to execute the project or improve skills. Upon completion, participants should be able to execute the piece they select.\n\nProject examples (but not limited to):\n- throwing specific pieces such as a French Butter Dish, Oila, moon jar, or pieces suitable for alternative firing processes\n- producing lids\n- "rescuing" a failing form\n- combining multiple thrown pieces into a single form\n\nThis class is intended to help those who are competent at the Wheel 3 level continue to advance.\n\nPre-requisite:\nParticipants must submit to the instructor desired project at least ONE WEEK prior to the class.\n\nMaterials:\nStudents come prepared with their project.\n\nClass Information:\n   Skill level:  Advanced (must be competent at Wheel 3 skills.  See Wheel 3 class description to verify required skills)\n   Number of participants:  Minimum = 3,  Maximum = 5\Location:\nGrand Clay Arts Studio\n\n,
X-ALT-DESC;FMTTYPE=text/html:Wheel Independent Study: Nov 3, 2025 (Jim Perez-Wood)<br /><br />11/03/25 03:00 PM MT - 11/03/25 06:00 PM MT<br />Description:<br /><strong>Number of Sessions: &nbsp; &nbsp; &nbsp; &nbsp; &nbsp; &nbsp;One, three-hour sessions&nbsp;<br />
Course Fee: &nbsp; &nbsp; &nbsp; &nbsp; &nbsp; &nbsp; &nbsp; &nbsp; &nbsp; &nbsp; &nbsp;&nbsp;&nbsp;&nbsp;&nbsp; $20.00<br />
Dates and time: &nbsp; &nbsp; &nbsp; &nbsp; &nbsp; &nbsp; &nbsp; &nbsp; &nbsp; &nbsp; Nov 3, 2025; 3:00 - 6:00 PM</strong><br />
<br />
<br />
<strong>Description:</strong>
<p>LIMITED TO THOSE WHO COMPLETED WHEEL 3, or have equivalent skill set as determined by instructor.<br />
<br />
This class will provide hands on guidance to students who wish to create wheel thrown pieces of their own choosing. &nbsp;Participants will work independently on projects of their&nbsp;own choice to execute the project or improve skills. Upon completion, participants should be able to execute the piece they select.<br />
<br />
Project examples (but not limited to):<br />
- throwing specific pieces such as a French Butter Dish,&nbsp;Oila, moon jar, or pieces suitable for alternative firing processes<br />
- producing lids<br />
- &quot;rescuing&quot; a failing form<br />
- combining multiple thrown pieces into a single form<br />
<br />
This class is intended to help those who are competent at the Wheel 3 level continue to advance.<br />
<br />
<strong><em>Pre-requisite:<br />
Participants must submit to the instructor desired project at least ONE WEEK prior to the class.</em></strong></p>
<br />
<strong>Materials:</strong><br />
Students come prepared with their project.<br />
<br />
<strong>Class Information:</strong><br />
&nbsp;&nbsp; Skill level: &nbsp;Advanced (must be competent at Wheel 3 skills. &nbsp;See Wheel 3 class description to verify required skills)<br />
&nbsp;&nbsp; Number of participants: &nbsp;Minimum = 3, &nbsp;Maximum = 5<br />Location:<br />Grand Clay Arts Studio<br /><br />,  
PRIORITY:3
TRANSP:TRANSPARENT
BEGIN:VALARM
TRIGGER:-PT5M
ACTION:DISPLAY
DESCRIPTION:Reminder
END:VALARM
END:VEVENT
END:VCALENDAR
