BEGIN:VCALENDAR
VERSION:2.0
CALSCALE:GREGORIAN
METHOD:PUBLISH
PRODID://GCAC//199801
BEGIN:VEVENT
DTSTAMP:20260425T071147
VTIMEZONE:America/Phoenix
DTSTART:20251021T220000Z
DTEND:20251022T010000Z
UID:199801
SUMMARY:Handbuilding II - Oct 2025 Canceled  
LOCATION:GCA Studio
DESCRIPTION:Handbuilding II - Oct 2025 Canceled  \n\n10/21/25 03:00 PM MT\n - 10/21/25 06:00 PM MT\Description:\nNumber of sessions: Three 3-hour classes\nCourse Fee: $60.00\n\nDescription:\nClass will introduce more advanced handbuilding construction techniques, and introduce recovery techniques for clay and glazing.\n\nParticipants will learn:\n- complex construction methods using multiple seams, and larger slabs\n- how to bevel and blend seams\n- methods for embellishing pieces with texture, add ons, feet and handles\n- techniques for repairing cracks, and trouble shooting possible construction and drying issues\n- tips to level a piece\n- various glazing and staining tips, and discuss \Details:\n \n\n \n\Location:\nGCA Studio\n\n,
X-ALT-DESC;FMTTYPE=text/html:Handbuilding II - Oct 2025 Canceled  <br /><br />10/21/25 03:00 PM MT - 10/21/25 06:00 PM MT<br />Description:<br /><h4><strong>Number&nbsp;of sessions:</strong>&nbsp;Three 3-hour classes<br />
<strong>Course Fee:</strong>&nbsp;$60.00<br />
<br />
<strong>Description:</strong></h4>
Class will introduce more advanced&nbsp;handbuilding&nbsp;construction techniques, and introduce recovery techniques for clay and glazing.<br />
<br />
Participants will learn:<br />
- complex construction methods using multiple seams, and larger slabs<br />
- how to bevel and blend seams<br />
-&nbsp;methods for embellishing pieces with texture, add ons, feet and handles<br />
- techniques for repairing cracks, and trouble shooting possible construction and drying issues<br />
- tips to level a piece<br />
- various glazing and staining tips, and discuss&nbsp;<br />Details:<br /><p>&nbsp;</p>

<p>&nbsp;</p>
<br />Location:<br />GCA Studio<br /><br />,  
PRIORITY:3
TRANSP:TRANSPARENT
BEGIN:VALARM
TRIGGER:-PT5M
ACTION:DISPLAY
DESCRIPTION:Reminder
END:VALARM
END:VEVENT
END:VCALENDAR
