BEGIN:VCALENDAR
VERSION:2.0
CALSCALE:GREGORIAN
METHOD:PUBLISH
PRODID://GCAC//200592
BEGIN:VEVENT
DTSTAMP:20260425T151836
VTIMEZONE:America/Phoenix
DTSTART:20251123T150000Z
DTEND:20251123T180000Z
UID:200592
SUMMARY:Alternative Fire - Splash Obvara, Nov 23, 2025
LOCATION:Grand Clay Arts Patio
DESCRIPTION:Alternative Fire - Splash Obvara, Nov 23, 2025\n\n11/23/25 08:00 AM MT\n - 11/23/25 11:00 AM MT\Description:\nParticipants make 3 pieces.\n\nObvara:  Clay pieces must be made of grogged clay and polished with terra sigillata before bisque.  After heating in the outdoor gas kiln, items are coated with a special mixture of yeast, flour, sugar and water, then quenched in water.  The results are cream, tan, brown and black stretchy marks on the clay surface.\Details:\nStudents provide up to 3 pieces made of grogged clay, polished with terra sigillata, and bisque fired prior to firing day..\Location:\nGrand Clay Arts Patio\n\n,
X-ALT-DESC;FMTTYPE=text/html:Alternative Fire - Splash Obvara, Nov 23, 2025<br /><br />11/23/25 08:00 AM MT - 11/23/25 11:00 AM MT<br />Description:<br />Participants make 3 pieces.<br />
<br />
Obvara:&nbsp; Clay pieces must be made of grogged clay and polished with terra sigillata before bisque.&nbsp; After heating in the outdoor gas kiln, items are coated with a special mixture of yeast, flour, sugar and water, then quenched in water.&nbsp; The results are cream, tan, brown and black stretchy marks on the clay surface.<br />Details:<br />Students provide up to 3 pieces made of grogged clay, polished with terra sigillata, and bisque fired prior to firing day..<br />Location:<br />Grand Clay Arts Patio<br /><br />,  
PRIORITY:3
TRANSP:TRANSPARENT
BEGIN:VALARM
TRIGGER:-PT5M
ACTION:DISPLAY
DESCRIPTION:Reminder
END:VALARM
END:VEVENT
END:VCALENDAR
