BEGIN:VCALENDAR
VERSION:2.0
CALSCALE:GREGORIAN
METHOD:PUBLISH
PRODID://CHEM//200607
BEGIN:VEVENT
DTSTAMP:20260424T053131
VTIMEZONE:America/New_York
DTSTART:20251023T210000Z
DTEND:20251023T220000Z
UID:200607
SUMMARY:Translating Fundamental Research to the Commercial Sector with David Putnam Ph.D.
LOCATION:, 30 West 44th Street, New York, NY, 10036
DESCRIPTION:Translating Fundamental Research to the Commercial Sector with David Putnam Ph.D.\n\n10/23/25 05:00 PM EST\n - 10/23/25 06:00 PM EST\Location:\n\n30 West 44th Street\nNew York, NY 10036
X-ALT-DESC;FMTTYPE=text/html:Translating Fundamental Research to the Commercial Sector with David Putnam Ph.D.<br /><br />10/23/25 05:00 PM EST - 10/23/25 06:00 PM EST<br />Location:<br /><br />30 West 44th Street<br />New York, NY 10036
PRIORITY:3
TRANSP:TRANSPARENT
BEGIN:VALARM
TRIGGER:-PT5M
ACTION:DISPLAY
DESCRIPTION:Reminder
END:VALARM
END:VEVENT
END:VCALENDAR
