BEGIN:VCALENDAR
VERSION:2.0
CALSCALE:GREGORIAN
METHOD:PUBLISH
PRODID://GCAC//200700
BEGIN:VEVENT
DTSTAMP:20260425T102904
VTIMEZONE:America/Phoenix
DTSTART:20251020T220000Z
DTEND:20251021T010000Z
UID:200700
SUMMARY:Wheel 3: Oct 20, 22, 27 and 30, 2025 (Jim Perez-Wood) Canceled 
LOCATION:Grand Clay Arts Studio
DESCRIPTION:Wheel 3: Oct 20, 22, 27 and 30, 2025 (Jim Perez-Wood) Canceled \n\n10/20/25 03:00 PM MT\n - 10/20/25 06:00 PM MT\Description:\nNumber of sessions:  Four, three hour sessions\nCourse Fee:   $80.00\nDates and times: Oct 20, 22, 27 and 29, 2025\n\nDescription:\nThis class will provide hands on instruction for students who wish to advance their throwing and shaping techniques to make larger and taller forms. Participants should be able to throw using up to 3 pounds of clay, prior to taking this class. Highly recommend completion of Wheel 1 and Wheel 2 or have equivalent skills.\n\nParticipants will learn:\n- Using specific hand positions and tools\n- Techniques for shaping forms\n- Using increasing amounts of clay to throw (3 lbs and greater)\n- Trimming a foot\n- Pulling mug handles\n- Using griffin grip\n- Using different surface treatments\n- Other skills as determined by instructor\n\nUpon completion participants should be able to make medium sized vases and bowls.\n\n \Location:\nGrand Clay Arts Studio\n\n,
X-ALT-DESC;FMTTYPE=text/html:Wheel 3: Oct 20, 22, 27 and 30, 2025 (Jim Perez-Wood) Canceled <br /><br />10/20/25 03:00 PM MT - 10/20/25 06:00 PM MT<br />Description:<br /><strong>Number of sessions: &nbsp;Four, three hour sessions<br />
Course Fee: &nbsp; $80.00<br />
Dates and times: Oct 20, 22, 27 and 29, 2025<br />
<br />
Description:</strong><br />
This class will provide hands on instruction for students who wish to advance their throwing and shaping techniques to make larger and taller forms. Participants should be able to throw using up to 3 pounds of clay, prior to taking this class. Highly recommend completion of Wheel 1 and Wheel 2 or have equivalent skills.<br />
<br />
Participants will learn:<br />
- Using specific hand positions and tools<br />
- Techniques for shaping forms<br />
- Using increasing amounts of clay to throw (3 lbs and greater)<br />
- Trimming a foot<br />
- Pulling mug handles<br />
- Using griffin grip<br />
- Using different surface treatments<br />
- Other skills as determined by instructor<br />
<br />
Upon completion participants should be able to make medium sized vases and bowls.<br />
<br />
&nbsp;<br />Location:<br />Grand Clay Arts Studio<br /><br />,  
PRIORITY:3
TRANSP:TRANSPARENT
BEGIN:VALARM
TRIGGER:-PT5M
ACTION:DISPLAY
DESCRIPTION:Reminder
END:VALARM
END:VEVENT
END:VCALENDAR
