BEGIN:VCALENDAR
VERSION:2.0
CALSCALE:GREGORIAN
METHOD:PUBLISH
PRODID://VCPA//201233
BEGIN:VEVENT
DTSTAMP:20260421T071217
VTIMEZONE:America/New_York
DTSTART:20251209T170000Z
DTEND:20251209T180000Z
UID:201233
SUMMARY:2025 Update on International Tax Topics (TAX)
LOCATION:Live Virtual Webinar
DESCRIPTION:2025 Update on International Tax Topics (TAX)\n\n12/09/25 12:00 PM EST\n - 12/09/25 01:00 PM EST\Description:\nCurrent Developments and Hot Topics in International Taxation: 2025 Tax Return and 2026 Tax Planning\n\nThere have been a lot of new and recent developments in the International Tax space that will have a direct impact on both US tax compliance and planning.  Practitioners should be aware of these developments and keep a close eye on how they progress as many of these are court cases that have new relevancy or will soon go to appeal.  This presentation will also provide helpful guidance on how to deal with potential or actual international informational reporting penalties.  \n\nJoin Mishkin Santa, Principal, Director of Internal Tax of the Wolf Group to discuss the latest news and topics regarding the ever changing landscape of international taxation.\n\n \n\nDate: Tuesday December 9, 2025\nTime: 12:00 pm - 1:00pm\nLocation: Live Webinar\nSpeakers: Mishkin Santa, the Wolf Group\nBenefit: 1 CPE credit\nCost: Free for members, Guests pay $25\Location:\nLive Virtual Webinar\n\n,
X-ALT-DESC;FMTTYPE=text/html:2025 Update on International Tax Topics (TAX)<br /><br />12/09/25 12:00 PM EST - 12/09/25 01:00 PM EST<br />Description:<br />Current Developments and Hot Topics in International Taxation: 2025 Tax Return and 2026 Tax Planning<br />
<br />
There have been a lot of new and recent developments in the International Tax space that will have a direct impact on both US tax compliance and planning. &nbsp;Practitioners should be aware of these developments and keep a close eye on how they progress as many of these are court cases that have new relevancy or will soon go to appeal. &nbsp;This presentation will also provide helpful guidance on how to deal with potential or actual international informational reporting penalties. &nbsp;<br />
<br />
Join Mishkin Santa, Principal, Director of Internal Tax of the Wolf Group to discuss the latest news and topics regarding the ever changing landscape of international taxation.<br />
<br />
&nbsp;<br />
<br />
Date: Tuesday December 9, 2025<br />
Time: 12:00 pm - 1:00pm<br />
Location: Live Webinar<br />
Speakers: Mishkin Santa, the Wolf Group<br />
Benefit: 1 CPE credit<br />
Cost: Free for members, Guests pay $25<br />Location:<br />Live Virtual Webinar<br /><br />,  
PRIORITY:3
TRANSP:TRANSPARENT
BEGIN:VALARM
TRIGGER:-PT5M
ACTION:DISPLAY
DESCRIPTION:Reminder
END:VALARM
END:VEVENT
END:VCALENDAR
