BEGIN:VCALENDAR
VERSION:2.0
CALSCALE:GREGORIAN
METHOD:PUBLISH
PRODID://CHEM//201424
BEGIN:VEVENT
DTSTAMP:20260423T175026
VTIMEZONE:America/New_York
DTSTART:20251114T000000Z
DTEND:20251114T023000Z
UID:201424
SUMMARY:Career & Speed-Interview with Syensqo @ NYU BioLabs
LOCATION:NYU Bio Labs, 45-18 Ct Square W, Long Island City, NY, 11101
DESCRIPTION:Career & Speed-Interview with Syensqo @ NYU BioLabs\n\n11/13/25 07:00 PM EST\n - 11/13/25 09:30 PM EST\Location:\nNYU Bio Labs\n45-18 Ct Square W\nLong Island City, NY 11101
X-ALT-DESC;FMTTYPE=text/html:Career & Speed-Interview with Syensqo @ NYU BioLabs<br /><br />11/13/25 07:00 PM EST - 11/13/25 09:30 PM EST<br />Location:<br />NYU Bio Labs<br />45-18 Ct Square W<br />Long Island City, NY 11101
PRIORITY:3
TRANSP:TRANSPARENT
BEGIN:VALARM
TRIGGER:-PT5M
ACTION:DISPLAY
DESCRIPTION:Reminder
END:VALARM
END:VEVENT
END:VCALENDAR
