BEGIN:VCALENDAR
VERSION:2.0
CALSCALE:GREGORIAN
METHOD:PUBLISH
PRODID://CHEM//201894
BEGIN:VEVENT
DTSTAMP:20260423T204514
VTIMEZONE:America/New_York
DTSTART:20251119T000000Z
DTEND:20251119T020000Z
UID:201894
SUMMARY:November 2025 Trustee Meeting 
LOCATION:, 24 Waverly Place, New York City, NY, 10003
DESCRIPTION:November 2025 Trustee Meeting \n\n11/18/25 07:00 PM EST\n - 11/18/25 09:00 PM EST\Location:\n\n24 Waverly Place\nNew York City, NY 10003
X-ALT-DESC;FMTTYPE=text/html:November 2025 Trustee Meeting <br /><br />11/18/25 07:00 PM EST - 11/18/25 09:00 PM EST<br />Location:<br /><br />24 Waverly Place<br />New York City, NY 10003
PRIORITY:3
TRANSP:TRANSPARENT
BEGIN:VALARM
TRIGGER:-PT5M
ACTION:DISPLAY
DESCRIPTION:Reminder
END:VALARM
END:VEVENT
END:VCALENDAR
