BEGIN:VCALENDAR
VERSION:2.0
CALSCALE:GREGORIAN
METHOD:PUBLISH
PRODID://GCAC//201928
BEGIN:VEVENT
DTSTAMP:20260425T071345
VTIMEZONE:America/Phoenix
DTSTART:20251119T220000Z
DTEND:20251120T010000Z
UID:201928
SUMMARY:Basic Clay - Nov 2025 
LOCATION:Grand Clay Arts Studio
DESCRIPTION:Basic Clay - Nov 2025 \n\n11/19/25 03:00 PM MT\n - 11/19/25 06:00 PM MT\Description:\nBasic Clay\n\nDates and Times:  Nov 3, 5, 12 and 19, 2025\nNumber of sessions:  Four sessions. The first session is 1.5 hours, the remaining three sessions are 3 hours each\nCourse Fee:  $60\nDescription:\nThis course provides hands on experience working with clay.  \n\nThis class is for new members who may register after they receive an invitation.  If you think you should have received an invitation but have not, please contact educoord@grandclayarts.com and request an invitation.  Existing members who want to take Basic Clay as a refresher must contact educoord@grandclayarts.com and ask to be invited.  Once you receive an invitation, you may register.\n\nThe very first class will cover basic etiquette in the clay club, review of equipment, and monitoring. Bring your login and password for the Grand Clay Arts website, along with your door code to the studio, and a credit card to purchase your beginning clay kit and clay.\n\nFully read next page of Class Description for complete instructions!\n\n\n\n \Location:\nGrand Clay Arts Studio\n\n,
X-ALT-DESC;FMTTYPE=text/html:Basic Clay - Nov 2025 <br /><br />11/19/25 03:00 PM MT - 11/19/25 06:00 PM MT<br />Description:<br /><h4><span style="font-size:20px"><span style="font-family:arial,helvetica,sans-serif"><strong>Basic Clay</strong></span></span><br />
<br />
<span style="font-size:16px"><span style="font-family:arial,helvetica,sans-serif"><strong>Dates and Times: &nbsp;</strong>Nov 3, 5, 12 and 19, 2025<br />
<strong>Number&nbsp;of sessions: </strong>&nbsp;Four&nbsp;sessions. The first session is 1.5 hours, the remaining three sessions are 3 hours each<br />
<strong>Course Fee:</strong>&nbsp; $60</span></span></h4>
<span style="font-size:16px"><strong>Description:</strong></span><br />
This course provides hands on experience working with clay. &nbsp;<br />
<br />
This class is for new members who may register after they receive an invitation.&nbsp; If you think you should have received an invitation but have not, please contact&nbsp;<a href="mailto:education@grandclayarts.com?subject=Basic%20Clay%20Class">educoord@grandclayarts.com</a>&nbsp;and request an invitation.&nbsp; Existing members who want to take Basic Clay as a refresher must contact&nbsp;<a href="mailto:education@grandclayarts.com?subject=Basic%20Clay%20Class">educoord@grandclayarts.com</a>&nbsp;and ask to be invited. &nbsp;Once you receive an invitation, you may register.<br />
<br />
The very first class will cover basic etiquette in the clay club, review of equipment, and monitoring. <strong>Bring your login and password for the Grand Clay Arts website, along with your door code to the studio, and a credit card to purchase your beginning clay kit and clay.<br />
<br />
Fully read next page of Class Description for complete instructions!</strong><br />
<br />
<br />
<br />
&nbsp;<br />Location:<br />Grand Clay Arts Studio<br /><br />,  
PRIORITY:3
TRANSP:TRANSPARENT
BEGIN:VALARM
TRIGGER:-PT5M
ACTION:DISPLAY
DESCRIPTION:Reminder
END:VALARM
END:VEVENT
END:VCALENDAR
