BEGIN:VCALENDAR
VERSION:2.0
CALSCALE:GREGORIAN
METHOD:PUBLISH
PRODID://ADS//202728
BEGIN:VEVENT
DTSTAMP:20260419T094740
VTIMEZONE:America/New_York
DTSTART:20260601T040000Z
DTEND:20260602T034500Z
UID:202728
SUMMARY:SUBMISSION DEADLINE FOR AUGUST BULLETIN
LOCATION:
DESCRIPTION:SUBMISSION DEADLINE FOR AUGUST BULLETIN\n\n06/01/26 12:00 AM EST\n - 06/01/26 11:45 PM EST
X-ALT-DESC;FMTTYPE=text/html:SUBMISSION DEADLINE FOR AUGUST BULLETIN<br /><br />06/01/26 12:00 AM EST - 06/01/26 11:45 PM EST
PRIORITY:3
TRANSP:TRANSPARENT
BEGIN:VALARM
TRIGGER:-PT5M
ACTION:DISPLAY
DESCRIPTION:Reminder
END:VALARM
END:VEVENT
END:VCALENDAR
