BEGIN:VCALENDAR
VERSION:2.0
CALSCALE:GREGORIAN
METHOD:PUBLISH
PRODID://ADS//202729
BEGIN:VEVENT
DTSTAMP:20260419T202216
VTIMEZONE:America/New_York
DTSTART:20261001T040000Z
DTEND:20261002T034500Z
UID:202729
SUMMARY:SUBMISSION DEADLINE FOR DECEMBER BULLETIN
LOCATION:
DESCRIPTION:SUBMISSION DEADLINE FOR DECEMBER BULLETIN\n\n10/01/26 12:00 AM EST\n - 10/01/26 11:45 PM EST
X-ALT-DESC;FMTTYPE=text/html:SUBMISSION DEADLINE FOR DECEMBER BULLETIN<br /><br />10/01/26 12:00 AM EST - 10/01/26 11:45 PM EST
PRIORITY:3
TRANSP:TRANSPARENT
BEGIN:VALARM
TRIGGER:-PT5M
ACTION:DISPLAY
DESCRIPTION:Reminder
END:VALARM
END:VEVENT
END:VCALENDAR
