BEGIN:VCALENDAR
VERSION:2.0
CALSCALE:GREGORIAN
METHOD:PUBLISH
PRODID://ADS//202730
BEGIN:VEVENT
DTSTAMP:20260419T215353
VTIMEZONE:America/New_York
DTSTART:20261010T040000Z
DTEND:20261011T034500Z
UID:202730
SUMMARY:SUBMISSION DEADLINE FOR TRIAL GARDEN RESULTS
LOCATION:
DESCRIPTION:SUBMISSION DEADLINE FOR TRIAL GARDEN RESULTS\n\n10/10/26 12:00 AM EST\n - 10/10/26 11:45 PM EST
X-ALT-DESC;FMTTYPE=text/html:SUBMISSION DEADLINE FOR TRIAL GARDEN RESULTS<br /><br />10/10/26 12:00 AM EST - 10/10/26 11:45 PM EST
PRIORITY:3
TRANSP:TRANSPARENT
BEGIN:VALARM
TRIGGER:-PT5M
ACTION:DISPLAY
DESCRIPTION:Reminder
END:VALARM
END:VEVENT
END:VCALENDAR
