BEGIN:VCALENDAR
VERSION:2.0
CALSCALE:GREGORIAN
METHOD:PUBLISH
PRODID://ADS//202917
BEGIN:VEVENT
DTSTAMP:20260419T164859
VTIMEZONE:America/New_York
DTSTART:20260201T050000Z
DTEND:20260202T044500Z
UID:202917
SUMMARY:SUBMISSION DEADLINE FOR APRIL BULLETIN
LOCATION:
DESCRIPTION:SUBMISSION DEADLINE FOR APRIL BULLETIN\n\n02/01/26 12:00 AM EST\n - 02/01/26 11:45 PM EST
X-ALT-DESC;FMTTYPE=text/html:SUBMISSION DEADLINE FOR APRIL BULLETIN<br /><br />02/01/26 12:00 AM EST - 02/01/26 11:45 PM EST
PRIORITY:3
TRANSP:TRANSPARENT
BEGIN:VALARM
TRIGGER:-PT5M
ACTION:DISPLAY
DESCRIPTION:Reminder
END:VALARM
END:VEVENT
END:VCALENDAR
