BEGIN:VCALENDAR
VERSION:2.0
CALSCALE:GREGORIAN
METHOD:PUBLISH
PRODID://GCAC//202970
BEGIN:VEVENT
DTSTAMP:20260424T053655
VTIMEZONE:America/Phoenix
DTSTART:20260318T220000Z
DTEND:20260319T010000Z
UID:202970
SUMMARY:Mold Making:  March 2026
LOCATION:Grand Clay Arts Studio
DESCRIPTION:Mold Making:  March 2026\n\n03/18/26 03:00 PM MT\n - 03/18/26 06:00 PM MT\Description:\nDate and Time:                 March 18 and 19, 2026\nNumber of Sessions:       Two 3 hour sessions \nCourse Fee:                      $45.00 ( includes cost of materials) \n\nDescription: \nMake plaster relief molds that allow you to create your image over and over.  \n\nClass 1:  \n- make your three low relief image (s) that will fit a small square mold\n- keep it simple:  animal, floral, abstract image\n\nClass 2:\n- make the plaster mold using your clay image \nParticipants should plan to work outside on the patio for class 2.\n\nParticipants will learn:\n- how to make reusable, relief mold \n- how to avoid undercuts\n- how to mix plaster \n\n\n( pic)\n\n\nMaterials:\n\n	Clay of Choice\n	Basic Clay tools\n	Your ideas for the clay image\n	Session 2:  Bring a mask (required)\n\n\nClass information:\nSkill level, pre-requisites:  Beginner \nMinimum/ maximum:   Minimum = 3; Maximum = 5\Details:\n\n\n \Location:\nGrand Clay Arts Studio\n\n,
X-ALT-DESC;FMTTYPE=text/html:Mold Making:  March 2026<br /><br />03/18/26 03:00 PM MT - 03/18/26 06:00 PM MT<br />Description:<br /><strong>Date and Time: &nbsp; &nbsp; &nbsp; &nbsp; &nbsp; &nbsp; &nbsp; &nbsp; March 18 and 19, 2026<br />
Number of Sessions:&nbsp;&nbsp;&nbsp;&nbsp;&nbsp;&nbsp;&nbsp;</strong>Two 3 hour sessions&nbsp;<br />
<strong>Course Fee:&nbsp;&nbsp;&nbsp;&nbsp;&nbsp;&nbsp;&nbsp;&nbsp;&nbsp;&nbsp;&nbsp;&nbsp;&nbsp;&nbsp;&nbsp;&nbsp;&nbsp;&nbsp;&nbsp;&nbsp;&nbsp;&nbsp;</strong>$45.00 ( includes cost of materials)&nbsp;<br />
<br />
<strong>Description:&nbsp;</strong><br />
Make plaster relief molds that allow you to create your image over and over. &nbsp;<br />
<br />
Class 1: &nbsp;<br />
- make your three low relief image (s) that will fit a small square mold<br />
- keep it simple: &nbsp;animal, floral, abstract image<br />
<br />
Class 2:<br />
- make the plaster mold using your clay image&nbsp;<br />
Participants should plan to work outside on the patio for class 2.<br />
<br />
Participants will learn:<br />
- how to make reusable, relief mold&nbsp;<br />
- how to avoid undercuts<br />
- how to mix plaster&nbsp;<br />
<br />
<br />
( pic)<br />
<br />
<br />
<strong>Materials:</strong>
<ul>
	<li>Clay of Choice</li>
	<li>Basic Clay tools</li>
	<li>Your ideas for the clay image</li>
	<li>Session 2: &nbsp;Bring a mask (required)</li>
</ul>
<br />
<strong>Class information</strong>:<br />
Skill level, pre-requisites: &nbsp;Beginner&nbsp;<br />
Minimum/ maximum: &nbsp; Minimum = 3; Maximum = 5<br />Details:<br /><br />
<br />
&nbsp;<br />Location:<br />Grand Clay Arts Studio<br /><br />,  
PRIORITY:3
TRANSP:TRANSPARENT
BEGIN:VALARM
TRIGGER:-PT5M
ACTION:DISPLAY
DESCRIPTION:Reminder
END:VALARM
END:VEVENT
END:VCALENDAR
