BEGIN:VCALENDAR
VERSION:2.0
CALSCALE:GREGORIAN
METHOD:PUBLISH
PRODID://VCPA//202995
BEGIN:VEVENT
DTSTAMP:20260421T053719
VTIMEZONE:America/New_York
DTSTART:20260121T180000Z
DTEND:20260122T013000Z
UID:202995
SUMMARY:2026 Annual Tri-State Tax Update
LOCATION:Falls Church Marriott Fairview Park, 3111 Fairview Park Drive, Falls Church, VA, 22042
DESCRIPTION:2026 Annual Tri-State Tax Update\n\n01/21/26 01:00 PM EST\n - 01/21/26 08:30 PM EST\Description:\n2026 Annual Tri-State Tax Update\nWednesday, January 21, 2026\n1:00 - 8:30pm\nFalls Church Marriott Fairview Park\n \nEvent Schedule\n1:00 - 2:00 pm\nRegistration\n2:00 – 2:50\n\nDC Tax Update (1 CPE)\n2:50 – 3:40 pm\n\nMD Tax Update (1 CPE)\n3:40 – 4:05 pm\n\nCoffee Break\n4:05 – 4:55 pm\n\nVA Tax Update (1 CPE)\n4:55 – 5:05 pm\n\nBreak\n5:05 - 6:45 pm\n\nFederal Tax Update (2 CPE)\n7:00 - 8:30 pm\n\nNetworking Banquet \n\Location:\nFalls Church Marriott Fairview Park\n3111 Fairview Park Drive\nFalls Church, VA 22042
X-ALT-DESC;FMTTYPE=text/html:2026 Annual Tri-State Tax Update<br /><br />01/21/26 01:00 PM EST - 01/21/26 08:30 PM EST<br />Description:<br /><strong>2026 Annual Tri-State Tax Update</strong><br />
Wednesday, January 21, 2026<br />
1:00 - 8:30pm<br />
Falls Church Marriott&nbsp;Fairview&nbsp;Park<br />
&nbsp;<br />
<u><strong>Event Schedule</strong></u><br />
1:00 - 2:00 pm
<div style="margin-left: 40px;"><strong>Registration</strong></div>
2:00 &ndash; 2:50

<div style="margin-left: 40px;"><strong>DC Tax&nbsp;Update (1 CPE)</strong></div>
2:50 &ndash; 3:40 pm

<div style="margin-left: 40px;"><strong>MD Tax Update (1 CPE)</strong></div>
3:40 &ndash; 4:05 pm

<div style="margin-left: 40px;"><strong>Coffee Break</strong></div>
4:05 &ndash; 4:55 pm

<div style="margin-left: 40px;"><strong>VA Tax Update (1 CPE)</strong></div>
4:55&nbsp;&ndash; 5:05 pm

<div style="margin-left: 40px;"><strong>Break</strong></div>
5:05 - 6:45 pm

<div style="margin-left: 40px;"><strong>Federal Tax Update (2 CPE)</strong></div>
7:00&nbsp;- 8:30 pm

<div style="margin-left: 40px;"><strong>Networking Banquet</strong>&nbsp;</div>
<br />Location:<br />Falls Church Marriott Fairview Park<br />3111 Fairview Park Drive<br />Falls Church, VA 22042
PRIORITY:3
TRANSP:TRANSPARENT
BEGIN:VALARM
TRIGGER:-PT5M
ACTION:DISPLAY
DESCRIPTION:Reminder
END:VALARM
END:VEVENT
END:VCALENDAR
