BEGIN:VCALENDAR
VERSION:2.0
CALSCALE:GREGORIAN
METHOD:PUBLISH
PRODID://CHEM//204015
BEGIN:VEVENT
DTSTAMP:20260423T030125
VTIMEZONE:America/New_York
DTSTART:20260121T000000Z
DTEND:20260121T020000Z
UID:204015
SUMMARY:January 2026 Trustee Meeting 
LOCATION:, 24 Waverly Place, New York City, NY, 10003
DESCRIPTION:January 2026 Trustee Meeting \n\n01/20/26 07:00 PM EST\n - 01/20/26 09:00 PM EST\Location:\n\n24 Waverly Place\nNew York City, NY 10003
X-ALT-DESC;FMTTYPE=text/html:January 2026 Trustee Meeting <br /><br />01/20/26 07:00 PM EST - 01/20/26 09:00 PM EST<br />Location:<br /><br />24 Waverly Place<br />New York City, NY 10003
PRIORITY:3
TRANSP:TRANSPARENT
BEGIN:VALARM
TRIGGER:-PT5M
ACTION:DISPLAY
DESCRIPTION:Reminder
END:VALARM
END:VEVENT
END:VCALENDAR
