BEGIN:VCALENDAR
VERSION:2.0
CALSCALE:GREGORIAN
METHOD:PUBLISH
PRODID://BWGC//204146
BEGIN:VEVENT
DTSTAMP:20260425T230619
VTIMEZONE:America/New_York
DTSTART:20260114T160000Z
DTEND:20260114T180000Z
UID:204146
SUMMARY:Education Meeting
LOCATION:
DESCRIPTION:Education Meeting\n\n01/14/26 11:00 AM EST\n - 01/14/26 01:00 PM EST
X-ALT-DESC;FMTTYPE=text/html:Education Meeting<br /><br />01/14/26 11:00 AM EST - 01/14/26 01:00 PM EST
PRIORITY:3
TRANSP:TRANSPARENT
BEGIN:VALARM
TRIGGER:-PT5M
ACTION:DISPLAY
DESCRIPTION:Reminder
END:VALARM
END:VEVENT
END:VCALENDAR
