BEGIN:VCALENDAR
VERSION:2.0
CALSCALE:GREGORIAN
METHOD:PUBLISH
PRODID://VCPA//204295
BEGIN:VEVENT
DTSTAMP:20260423T103909
VTIMEZONE:America/New_York
DTSTART:20260113T130000Z
DTEND:20260113T140000Z
UID:204295
SUMMARY:2026 Annual Defense Contracting Auditing Agency Update (DCAA) (GovCon SIG)
LOCATION:Live Virtual Webinar
DESCRIPTION:2026 Annual Defense Contracting Auditing Agency Update (DCAA) (GovCon SIG)\n\n01/13/26 08:00 AM EST\n - 01/13/26 09:00 AM EST\Description:\nNext in the GovCon Breakfast Series -- DCAA Update 2025 presented by Defense Contracting Auditing Agency\n\nThe following topics will be covered:\n\n	DCAA’s Mission and Organization\n	DCAA’s Value to Acquisition Process\n	Agency Priorities\n	New and Ongoing Agency Initiatives\n\nDetails: 8:00-9:00 am Tuesday, January 13, 2026\nLive Virtual Meeting: Zoom meeting information will be sent with your email confirmation.\nPresenter: Jennifer L. Quinones, Assistant Director, Contract Audit Standards and Assurance, Defense Contract Audit Agency’s (DCAA)\nBenefits: 1.0 hour of CPE (free to Northern Chapter VSCPA members; non-members pay $25)\n\nWe hope you will join us!\Location:\nLive Virtual Webinar\n\n,
X-ALT-DESC;FMTTYPE=text/html:2026 Annual Defense Contracting Auditing Agency Update (DCAA) (GovCon SIG)<br /><br />01/13/26 08:00 AM EST - 01/13/26 09:00 AM EST<br />Description:<br /><span style="font-size:14px"><span style="font-family:arial,helvetica,sans-serif">Next in the GovCon Breakfast Series -- DCAA Update 2025 presented by Defense Contracting Auditing Agency<br />
<br />
The following topics will be covered:</span></span>
<ul>
	<li><span style="font-size:14px"><span style="font-family:arial,helvetica,sans-serif">DCAA&rsquo;s Mission and Organization</span></span></li>
	<li><span style="font-size:14px"><span style="font-family:arial,helvetica,sans-serif">DCAA&rsquo;s&nbsp;Value to Acquisition Process</span></span></li>
	<li><span style="font-size:14px"><span style="font-family:arial,helvetica,sans-serif">Agency Priorities</span></span></li>
	<li><span style="font-size:14px"><span style="font-family:arial,helvetica,sans-serif">New and Ongoing Agency Initiatives</span></span></li>
</ul>
<span style="font-size:14px"><span style="font-family:arial,helvetica,sans-serif"><u>Details</u>: 8:00-9:00 am Tuesday, January 13, 2026<br />
<u>Live Virtual Meeting</u>: Zoom meeting information will be sent with your email confirmation.<br />
<u>Presenter</u>: Jennifer L. Quinones, Assistant Director, Contract Audit Standards and Assurance,&nbsp;Defense Contract Audit Agency&rsquo;s (DCAA)<br />
<u>Benefits</u>: 1.0 hour of CPE (free to Northern Chapter VSCPA members; non-members pay $25)<br />
<br />
<em><strong>We hope you will join us!</strong></em></span></span><br />Location:<br />Live Virtual Webinar<br /><br />,  
PRIORITY:3
TRANSP:TRANSPARENT
BEGIN:VALARM
TRIGGER:-PT5M
ACTION:DISPLAY
DESCRIPTION:Reminder
END:VALARM
END:VEVENT
END:VCALENDAR
