BEGIN:VCALENDAR
VERSION:2.0
CALSCALE:GREGORIAN
METHOD:PUBLISH
PRODID://RMWE//205398
BEGIN:VEVENT
DTSTAMP:20260422T131945
VTIMEZONE:America/Denver
DTSTART:20260405T140000Z
DTEND:20260410T230000Z
UID:205398
SUMMARY:Water and Wastewater Intermediate & Advanced School
LOCATION:Delta Marriott Northglenn, 10 East 120th Ave, Northglenn, CO, 80233
DESCRIPTION:Water and Wastewater Intermediate & Advanced School\n\n04/05/26 08:00 AM MST\n - 04/10/26 05:00 PM MST\Description:\nElevate your expertise in water and wastewater treatment with the in-person, hands-on courses led by industry experts. Designed for water professionals eager to deepen their knowledge, this school allows attendees to ask personalized questions, exchange insights with peers, and immediately apply practical skills to their work. Come find out why people from all across North America attend this renowned school!\n \n\Details:\n\nFees:\n$450 early bird registration fee until March 22nd, 2026\n$500 registration fee after March 22nd, 2026\nLunch option for the week: $75\nOptional book with printed presentations: $125\nAdditional flash drive with presentations: $15\n\nLunches and Course Notebooks are not required but can be included for an additional fee. The course notebooks are 3-ring binders with physical printouts of the slide presentations that will be shown in class.  All registered participants will receive a flash drive containing the course presentations.\n\n*Scholarship options are available (deadline to submit is March 20, 2026) - Scholarships covering the tuition for one course of study in the Fundamentals School will be awarded to applicants employed by a town or municipality water or sewer district serving fewer than 3,300 residents within the Rocky Mountain Region. (CO, NM, WY)\nScholarships will be reviewed and awarded based on the size of the community served, location, and level of certification required for that entity by the scholarship review board.\Location:\nDelta Marriott Northglenn\n10 East 120th Ave\nNorthglenn, CO 80233
X-ALT-DESC;FMTTYPE=text/html:Water and Wastewater Intermediate & Advanced School<br /><br />04/05/26 08:00 AM MST - 04/10/26 05:00 PM MST<br />Description:<br /><p>Elevate your expertise in water and wastewater treatment with the in-person, hands-on courses led by industry experts. Designed for water professionals eager to deepen their knowledge, this school allows attendees to ask personalized questions, exchange insights with peers, and immediately apply practical skills to their work. Come find out why people from all across North America attend this renowned school!<br />
&nbsp;</p>
<br />Details:<br /><br />
<strong>Fees:</strong><br />
$450 early bird registration fee until March 22nd, 2026<br />
$500 registration fee after March 22nd, 2026<br />
Lunch option for the week: $75<br />
Optional book with printed presentations: $125<br />
Additional flash drive with presentations: $15<br />
<br />
<em><strong>Lunches and Course Notebooks are not required but can be included for an additional fee</strong>. The course notebooks are 3-ring binders with physical printouts of the slide presentations that will be shown in class.&nbsp; All registered participants will receive a flash drive containing the course presentations.</em><br />
<br />
*Scholarship options are available&nbsp;<strong>(deadline to submit is March 20, 2026)</strong>&nbsp;-&nbsp;Scholarships covering the tuition for one course of study in the Fundamentals School will be awarded to applicants employed by a town or municipality water or sewer district serving fewer than 3,300 residents within the Rocky Mountain Region. (CO, NM, WY)<br />
Scholarships will be reviewed and awarded based on the size of the community served, location, and level of certification required for that entity by the scholarship review board.<br />Location:<br />Delta Marriott Northglenn<br />10 East 120th Ave<br />Northglenn, CO 80233
PRIORITY:3
TRANSP:TRANSPARENT
BEGIN:VALARM
TRIGGER:-PT5M
ACTION:DISPLAY
DESCRIPTION:Reminder
END:VALARM
END:VEVENT
END:VCALENDAR
