BEGIN:VCALENDAR
VERSION:2.0
CALSCALE:GREGORIAN
METHOD:PUBLISH
PRODID://GCAC//206743
BEGIN:VEVENT
DTSTAMP:20260424T103045
VTIMEZONE:America/Phoenix
DTSTART:20260210T220000Z
DTEND:20260211T010000Z
UID:206743
SUMMARY:CANCELED Handbuilding II:  February 2026
LOCATION:Grand Clay Arts Studio
DESCRIPTION:CANCELED Handbuilding II:  February 2026\n\n02/10/26 03:00 PM MT\n - 02/10/26 06:00 PM MT\Description:\nNumber of sessions: Three 3-hour classes\nCourse Fee: $60.00\n\nDescription:\nClass will introduce more advanced handbuilding construction techniques, and introduce recovery techniques for clay and glazing.\n\nParticipants will learn:\n- complex construction methods using multiple seams, and larger slabs\n- how to bevel and blend seams\n- methods for embellishing pieces with texture, add ons, feet and handles\n- techniques for repairing cracks, and trouble shooting possible construction and drying issues\n- tips to level a piece\n- various glazing and staining tips, and discuss reglazing techniques \n\n    Class 1\n\n\n	Review studio protocols and cleaning expectations \n	Using Hump and Slump molds: instruction and demo\n	Brief discussion on sprigging, texture and adding handles and/or feet\n	Create bowl using hump or slump method\n\n\n    Class 2\n\n\n	Slab building discussion\n	Review techniques for closing seams \n	Construct a bird house using templates and texture\n\n\n   Class 3\n\n\n	Discuss glazing techniques by exploring application options, glaze combinations, record keeping, reglazing\n	Discuss use of stains to enhance pieces\n	Glaze pieces made in class \n\n \n\n\nMaterials:\n\n\n	Basic clay tools\n	B-Mix with Grog Clay or Speckled Buff\n	Texture Tools if you have any\n	Highly Desired: purchase bevel cutting tool\n\n \n\nClass Information:\n\n\n	Skill level/Pre-requisites:  Beginner\n	Number of students: Minimum 3   Maximum  8\n\n\Details:\n \n\n \n\Location:\nGrand Clay Arts Studio\n\n,
X-ALT-DESC;FMTTYPE=text/html:CANCELED Handbuilding II:  February 2026<br /><br />02/10/26 03:00 PM MT - 02/10/26 06:00 PM MT<br />Description:<br /><h4><strong>Number&nbsp;of sessions:</strong>&nbsp;Three 3-hour classes<br />
<strong>Course Fee:</strong>&nbsp;$60.00<br />
<br />
<strong>Description:</strong></h4>
Class will introduce more advanced&nbsp;handbuilding&nbsp;construction techniques, and introduce recovery techniques for clay and glazing.<br />
<br />
Participants will learn:<br />
- complex construction methods using multiple seams, and larger slabs<br />
- how to bevel and blend seams<br />
-&nbsp;methods for embellishing pieces with texture, add ons, feet and handles<br />
- techniques for repairing cracks, and trouble shooting possible construction and drying issues<br />
- tips to level a piece<br />
- various glazing and staining tips, and discuss&nbsp;reglazing&nbsp;techniques&nbsp;<br />
<br />
<strong>&nbsp; &nbsp; Class 1</strong>

<ul>
	<li>Review studio protocols and cleaning expectations&nbsp;</li>
	<li>Using Hump and Slump&nbsp;molds:&nbsp;instruction and demo</li>
	<li>Brief discussion on&nbsp;sprigging, texture and adding handles and/or feet</li>
	<li>Create bowl using hump or slump method</li>
</ul>
<br />
&nbsp; &nbsp;&nbsp;<strong>Class 2</strong>

<ul>
	<li>Slab building discussion</li>
	<li>Review techniques for closing seams&nbsp;</li>
	<li>Construct a&nbsp;bird&nbsp;house using templates and texture</li>
</ul>
<br />
<strong>&nbsp; &nbsp;Class 3</strong>

<ul>
	<li>Discuss glazing techniques by exploring application options, glaze combinations, record keeping,&nbsp;reglazing</li>
	<li>Discuss use of stains to enhance pieces<br />
	Glaze pieces made in class&nbsp;</li>
</ul>
&nbsp;

<p><br />
<strong>Materials:</strong></p>

<ul>
	<li>Basic clay tools</li>
	<li>B-Mix with Grog Clay or Speckled Buff</li>
	<li>Texture Tools if you have any</li>
	<li>Highly Desired: purchase bevel cutting tool</li>
</ul>
&nbsp;

<p><strong>Class Information:</strong></p>

<ul>
	<li>Skill level/Pre-requisites: &nbsp;Beginner</li>
	<li>Number of students: Minimum&nbsp;3&nbsp; &nbsp;Maximum &nbsp;8</li>
</ul>
<br />Details:<br /><p>&nbsp;</p>

<p>&nbsp;</p>
<br />Location:<br />Grand Clay Arts Studio<br /><br />,  
PRIORITY:3
TRANSP:TRANSPARENT
BEGIN:VALARM
TRIGGER:-PT5M
ACTION:DISPLAY
DESCRIPTION:Reminder
END:VALARM
END:VEVENT
END:VCALENDAR
