BEGIN:VCALENDAR
VERSION:2.0
CALSCALE:GREGORIAN
METHOD:PUBLISH
PRODID://GCAC//207181
BEGIN:VEVENT
DTSTAMP:20260425T071538
VTIMEZONE:America/Phoenix
DTSTART:20260205T220000Z
DTEND:20260206T010000Z
UID:207181
SUMMARY:CANCELED: Skyline Bowl:  February 2026
LOCATION:Grand Clay Arts Studio
DESCRIPTION:CANCELED: Skyline Bowl:  February 2026\n\n02/05/26 03:00 PM MT\n - 02/05/26 06:00 PM MT\Description:\nSkyline Bowl:\n\nDate and Time:                 February 5, 6 and 19, 2026\nNumber of Sessions:       Three, 3, hour sessions\nCourse Fee:                      $60.00\n\nDescription: \nTake a memory photograph from a trip or event in your life and create a decorative bowl from it!  First you will create a slump bowl. Then using a photo from your special experience we will discuss design. Your photo can be used in totality or in part, or stylized to create the visual. This will be transfered onto the bowl. You will be taught decorative rim techniques and finish the piece with stain and/ or underglazes.\n\nClass 1:  \n- create the bowl\n- transfer the photo onto the bowl\n- decorate the rim\n- firm up to leather hard\n\nClass 2:\n- decorate the bowl with carving and/or bas relief \n\nClass 3:  \n- stain, underglaze, then dry bisque piece to prepare for firing \n\n\nParticipants will learn:\n- how to trace image onto piece\n- decorative lip techniques \n- carving and bas relief \n- finishing techniques on leatherhard or bisque ware \n\n\n\n\n\nMaterials:\n\n	Clay of Choice \n	Basic Clay tools\n	Carving tools \n	Participants own picture(s) \n	Reference photos (some will be on hand from instructor)\n\nClass information:\nSkill level, pre-requisites:  Bold beginner (can be relatively new to Clay if not afraid to try new things) \nMinimum/ maximum:   Minimum = 3; Maximum = 8\Details:\n\n \Location:\nGrand Clay Arts Studio\n\n,
X-ALT-DESC;FMTTYPE=text/html:CANCELED: Skyline Bowl:  February 2026<br /><br />02/05/26 03:00 PM MT - 02/05/26 06:00 PM MT<br />Description:<br /><strong><span style="font-size:20px">Skyline Bowl:</span><br />
<br />
Date and Time: &nbsp; &nbsp; &nbsp; &nbsp; &nbsp; &nbsp; &nbsp; &nbsp; February 5, 6 and 19, 2026<br />
Number of Sessions:&nbsp; &nbsp; &nbsp;&nbsp;&nbsp;Three, 3, hour sessions<br />
Course Fee:&nbsp; &nbsp;&nbsp;&nbsp;&nbsp;&nbsp;&nbsp;&nbsp;&nbsp;&nbsp;&nbsp;&nbsp;&nbsp;&nbsp;&nbsp;&nbsp;&nbsp;&nbsp;&nbsp;&nbsp;&nbsp;$60.00</strong><br />
<br />
<strong>Description:&nbsp;</strong><br />
Take a memory photograph from a trip or event in your life and create a decorative bowl from it! &nbsp;First you will create a slump bowl. Then using a photo from your special experience we will discuss design. Your photo can be used in totality or in part, or stylized to create the visual. This will be&nbsp;transfered&nbsp;onto the bowl. You will be taught decorative rim techniques and finish the piece with stain and/ or&nbsp;underglazes.<br />
<br />
Class 1: &nbsp;<br />
- create the bowl<br />
- transfer the photo onto the bowl<br />
- decorate the rim<br />
- firm up to leather hard<br />
<br />
Class 2:<br />
- decorate the bowl with carving and/or bas relief&nbsp;<br />
<br />
Class 3: &nbsp;<br />
- stain,&nbsp;underglaze, then dry bisque piece to prepare for firing&nbsp;<br />
<br />
<br />
Participants will learn:<br />
- how to trace image onto piece<br />
- decorative lip techniques&nbsp;<br />
- carving and bas relief&nbsp;<br />
- finishing techniques on&nbsp;leatherhard&nbsp;or bisque ware&nbsp;<br />
<br />
<br />
<br />
<br />
<br />
<strong>Materials:</strong>
<ul>
	<li>Clay of Choice&nbsp;</li>
	<li>Basic Clay tools</li>
	<li>Carving tools&nbsp;</li>
	<li>Participants own picture(s)&nbsp;</li>
	<li>Reference photos (some will be on hand from instructor)</li>
</ul>
<strong>Class information</strong>:<br />
Skill level, pre-requisites: &nbsp;Bold beginner (can be relatively new to Clay if not afraid to try new things)&nbsp;<br />
Minimum/ maximum: &nbsp; Minimum = 3; Maximum = 8<br />Details:<br /><br />
&nbsp;<br />Location:<br />Grand Clay Arts Studio<br /><br />,  
PRIORITY:3
TRANSP:TRANSPARENT
BEGIN:VALARM
TRIGGER:-PT5M
ACTION:DISPLAY
DESCRIPTION:Reminder
END:VALARM
END:VEVENT
END:VCALENDAR
