BEGIN:VCALENDAR
VERSION:2.0
CALSCALE:GREGORIAN
METHOD:PUBLISH
PRODID://IWEA//207624
BEGIN:VEVENT
DTSTAMP:20260424T201124
VTIMEZONE:America/Chicago
DTSTART:20260121T180000Z
DTEND:20260121T190000Z
UID:207624
SUMMARY:Industrial Pretreatment Committee Webinar
LOCATION:IWEA
DESCRIPTION:Industrial Pretreatment Committee Webinar\n\n01/21/26 12:00 PM CST\n - 01/21/26 01:00 PM CST\Description:\nElectronic Pretreatment Annual Reporting Live Demo and Q&A\nWednesday, January 21, 2026\nNoon - 1 p.m.\nZoom webinar\n\nJoin us for a live demonstration and walkthrough of the Electronic Annual Pretreatment Program Report (PPR) components within USEPA’s NeT-PPR database. Bring your questions – we will address as many as possible during the event.\n\nSpeaker: Lisa Lucht, PE - Village of Bensenville, IL Pretreatment Coordinator\nLisa Lucht has worked as the Pretreatment Coordinator for the Village of Bensenville since 2022. Prior to joining the municipal world, Lisa worked as a consulting engineer in the Chicago area for 18 years. She received her B.S. in Civil Engineering from Bradley University, is a registered professional engineer in Illinois, and is licensed as a Class 3 wastewater operator. Lisa has specialized in the day-to-day management of industrial pretreatment programs for the past 14 years and truly loves her job. Outside of work, Lisa can be found listening to an audiobook, driving around her two teenagers, and snuggling her three recently adopted kittens.\Location:\nIWEA\n\n,
X-ALT-DESC;FMTTYPE=text/html:Industrial Pretreatment Committee Webinar<br /><br />01/21/26 12:00 PM CST - 01/21/26 01:00 PM CST<br />Description:<br /><span style="color:#3366cc"><span style="font-size:18px"><strong>Electronic Pretreatment Annual Reporting Live Demo and Q&amp;A</strong></span></span><br />
<span style="font-size:14px"><strong>Wednesday, January 21, 2026<br />
Noon - 1 p.m.<br />
Zoom webinar</strong></span><br />
<br />
Join us for a live demonstration and walkthrough of the Electronic Annual Pretreatment Program Report (PPR) components within USEPA&rsquo;s NeT-PPR database. Bring your questions &ndash; we will address as many as possible during the event.<br />
<br />
<strong>Speaker:&nbsp;Lisa Lucht, PE - Village of Bensenville, IL Pretreatment Coordinator</strong><br />
Lisa Lucht has worked as the Pretreatment Coordinator for the Village of Bensenville since 2022. Prior to joining the municipal world, Lisa worked as a consulting engineer in the Chicago area for 18 years. She received her B.S. in Civil Engineering from Bradley University, is a registered professional engineer in Illinois, and is licensed as a Class 3 wastewater operator. Lisa has specialized in the day-to-day management of industrial pretreatment programs for the past 14 years and truly loves her job. Outside of work, Lisa can be found listening to an audiobook, driving around her two teenagers, and snuggling her three recently adopted kittens.<br />Location:<br />IWEA<br /><br />,  
PRIORITY:3
TRANSP:TRANSPARENT
BEGIN:VALARM
TRIGGER:-PT5M
ACTION:DISPLAY
DESCRIPTION:Reminder
END:VALARM
END:VEVENT
END:VCALENDAR
