BEGIN:VCALENDAR
VERSION:2.0
CALSCALE:GREGORIAN
METHOD:PUBLISH
PRODID://IWEA//208068
BEGIN:VEVENT
DTSTAMP:20260424T123608
VTIMEZONE:America/Chicago
DTSTART:20260324T130000Z
DTEND:20260328T010000Z
UID:208068
SUMMARY:WEF | AWWA Utility Management Conference
LOCATION:Charlotte Convention Center, Charlotte, NC
DESCRIPTION:WEF | AWWA Utility Management Conference\n\n03/24/26 08:00 AM CST\n - 03/27/26 08:00 PM CST\Description:\nWEF | AWWA Utility Management Conference\nMarch 22 - 27, 2026\nCharlotte Convention Center, Charlotte, NC\n\nThis year, the WEF/AWWA Utility Management Conference is offering 34 innovative, interactive technical sessions and 7 pre-conference workshops.\n\nHosted by the Water Environment Federation\nFor more information and to register, click here: https://www.wef.org/events--education/conferences/utilitymanagement2026/\Location:\nCharlotte Convention Center\n\nCharlotte, NC
X-ALT-DESC;FMTTYPE=text/html:WEF | AWWA Utility Management Conference<br /><br />03/24/26 08:00 AM CST - 03/27/26 08:00 PM CST<br />Description:<br /><h2><strong>WEF | AWWA Utility Management Conference</strong></h2>
<strong>March 22 - 27, 2026</strong><br />
<strong>Charlotte Convention Center, Charlotte, NC</strong><br />
<br />
This year, the WEF/AWWA Utility Management Conference is offering 34 innovative, interactive technical sessions and 7 pre-conference workshops.<br />
<br />
<strong>Hosted by the Water Environment Federation</strong><br />
For more information and to register, click here:&nbsp;<strong><a href="https://www.wef.org/events--education/conferences/utilitymanagement2026/" target="_blank">https://www.wef.org/events--education/conferences/utilitymanagement2026/</a></strong><br />Location:<br />Charlotte Convention Center<br /><br />Charlotte, NC 
PRIORITY:3
TRANSP:TRANSPARENT
BEGIN:VALARM
TRIGGER:-PT5M
ACTION:DISPLAY
DESCRIPTION:Reminder
END:VALARM
END:VEVENT
END:VCALENDAR
