BEGIN:VCALENDAR
VERSION:2.0
CALSCALE:GREGORIAN
METHOD:PUBLISH
PRODID://IWEA//208069
BEGIN:VEVENT
DTSTAMP:20260424T175151
VTIMEZONE:America/Chicago
DTSTART:20260608T130000Z
DTEND:20260611T010000Z
UID:208069
SUMMARY:WEF: Industrial Water Solutions 2026
LOCATION:McCormick Place, Chicago, IL
DESCRIPTION:WEF: Industrial Water Solutions 2026\n\n06/08/26 08:00 AM CST\n - 06/10/26 08:00 PM CST\Description:\nIndustrial Water Solutions 2026\nJune 8 - 10, 2026\nMcCormick Place (Chicago, Illinois)\n\nHosted by the Water Environment Federation\nFor more information and to register, click here: https://www.wef.org/events--education/conferences/iwsconference2026/\Location:\nMcCormick Place\n\nChicago, IL
X-ALT-DESC;FMTTYPE=text/html:WEF: Industrial Water Solutions 2026<br /><br />06/08/26 08:00 AM CST - 06/10/26 08:00 PM CST<br />Description:<br /><h2><strong>Industrial Water Solutions 2026</strong></h2>
<strong>June 8 - 10, 2026</strong><br />
<strong>McCormick Place (Chicago, Illinois)</strong><br />
<br />
<strong>Hosted by the Water Environment Federation</strong><br />
For more information and to register, click here:&nbsp;<strong><a href="https://www.wef.org/events--education/conferences/iwsconference2026/" target="_blank">https://www.wef.org/events--education/conferences/iwsconference2026/</a></strong><br />Location:<br />McCormick Place<br /><br />Chicago, IL 
PRIORITY:3
TRANSP:TRANSPARENT
BEGIN:VALARM
TRIGGER:-PT5M
ACTION:DISPLAY
DESCRIPTION:Reminder
END:VALARM
END:VEVENT
END:VCALENDAR
