BEGIN:VCALENDAR
VERSION:2.0
CALSCALE:GREGORIAN
METHOD:PUBLISH
PRODID://IWEA//208070
BEGIN:VEVENT
DTSTAMP:20260424T133332
VTIMEZONE:America/Chicago
DTSTART:20260708T130000Z
DTEND:20260712T010000Z
UID:208070
SUMMARY:WEF: Collection Systems and Stormwater Conference
LOCATION:Oregon Convention Center, Portland, OR
DESCRIPTION:WEF: Collection Systems and Stormwater Conference\n\n07/08/26 08:00 AM CST\n - 07/11/26 08:00 PM CST\Description:\nWEF: Collection Systems and Stormwater Conference\nJuly 8 - 11, 2026\nOregon Convention Center (Portland, OR)\n\nThe Collection Systems & Stormwater Conference brings together the people responsible for keeping water moving, safely and sustainably, through our communities. From collection system operators and engineers to stormwater managers, regulators, and solution providers, this event is where the practical realities of wet weather, aging infrastructure, and climate-driven risk meet real-world solutions.\n\nHosted by the Water Environment Federation\nFor more information and to register, click here: https://www.wef.org/events--education/conferences/collectionsstormwater2026/\Location:\nOregon Convention Center\n\nPortland, OR
X-ALT-DESC;FMTTYPE=text/html:WEF: Collection Systems and Stormwater Conference<br /><br />07/08/26 08:00 AM CST - 07/11/26 08:00 PM CST<br />Description:<br /><h2><strong>WEF:&nbsp;Collection Systems and Stormwater Conference</strong></h2>
<strong>July 8 - 11, 2026</strong><br />
<strong>Oregon Convention Center (Portland, OR)</strong><br />
<br />
The Collection Systems &amp; Stormwater Conference brings together the people responsible for keeping water moving, safely and sustainably, through our communities. From collection system operators and engineers to stormwater managers, regulators, and solution providers, this event is where the practical realities of wet weather, aging infrastructure, and climate-driven risk meet real-world solutions.<br />
<br />
<strong>Hosted by the Water Environment Federation</strong><br />
For more information and to register, click here:&nbsp;<strong><a href="https://www.wef.org/events--education/conferences/collectionsstormwater2026/" target="_blank">https://www.wef.org/events--education/conferences/collectionsstormwater2026/</a></strong><br />Location:<br />Oregon Convention Center<br /><br />Portland, OR 
PRIORITY:3
TRANSP:TRANSPARENT
BEGIN:VALARM
TRIGGER:-PT5M
ACTION:DISPLAY
DESCRIPTION:Reminder
END:VALARM
END:VEVENT
END:VCALENDAR
