BEGIN:VCALENDAR
VERSION:2.0
CALSCALE:GREGORIAN
METHOD:PUBLISH
PRODID://IWEA//208071
BEGIN:VEVENT
DTSTAMP:20260423T221924
VTIMEZONE:America/Chicago
DTSTART:20260511T130000Z
DTEND:20260515T010000Z
UID:208071
SUMMARY:WEF: Residuals, Biosolids and Treatment Technology Conference
LOCATION:Kansas City Convention Center, Kansas City, MO
DESCRIPTION:WEF: Residuals, Biosolids and Treatment Technology Conference\n\n05/11/26 08:00 AM CST\n - 05/14/26 08:00 PM CST\Description:\nResiduals, Biosolids and Treatment Technology Conference\nMay 11 - 14, 2026\nKansas City Convention Center (Kansas City, MO)\n\nHosted by the Water Environment Federation\nFor more information and to register, click here: https://www.wef.org/events--education/conferences/RBITT/\Location:\nKansas City Convention Center\n\nKansas City, MO
X-ALT-DESC;FMTTYPE=text/html:WEF: Residuals, Biosolids and Treatment Technology Conference<br /><br />05/11/26 08:00 AM CST - 05/14/26 08:00 PM CST<br />Description:<br /><h2><strong>Residuals, Biosolids and Treatment Technology Conference</strong></h2>
<strong>May 11 - 14, 2026</strong><br />
<strong>Kansas City Convention Center (Kansas City, MO)</strong><br />
<br />
<strong>Hosted by the Water Environment Federation</strong><br />
For more information and to register, click here:&nbsp;<strong><a href="https://www.wef.org/events--education/conferences/RBITT/" target="_blank">https://www.wef.org/events--education/conferences/RBITT/</a></strong><br />Location:<br />Kansas City Convention Center<br /><br />Kansas City, MO 
PRIORITY:3
TRANSP:TRANSPARENT
BEGIN:VALARM
TRIGGER:-PT5M
ACTION:DISPLAY
DESCRIPTION:Reminder
END:VALARM
END:VEVENT
END:VCALENDAR
