BEGIN:VCALENDAR
VERSION:2.0
CALSCALE:GREGORIAN
METHOD:PUBLISH
PRODID://IWEA//208072
BEGIN:VEVENT
DTSTAMP:20260424T133449
VTIMEZONE:America/Chicago
DTSTART:20260926T130000Z
DTEND:20261001T010000Z
UID:208072
SUMMARY:WEFTEC 2026
LOCATION:Ernest N. Morial Convention Center, New Orleans, LA
DESCRIPTION:WEFTEC 2026\n\n09/26/26 08:00 AM CST\n - 09/30/26 08:00 PM CST\Description:\nWEFTEC 2026\nSeptember 26 - 30, 2026\nErnest N. Morial Convention Center (New Orleans, LA)\n\nWEFTEC, the Water Environment Federation's Technical Exhibition and Conference, is the largest annual water quality exhibition in North America and offers water quality professionals the best water quality education and training available.\n\nWEFTEC is more than just a conference—it’s an immersive experience that empowers attendees to positively impact the future of water quality and environmental sustainability.\n\nJoin us to explore cutting-edge solutions, connect with sector leaders, and drive sustainable change. With expert insights, unparalleled networking opportunities, and groundbreaking innovations, WEFTEC empowers you to tackle today's challenges and shape the future of water and the environment.\n\nHosted by the Water Environment Federation\nFor more information and to register, click here: https://www.weftec.org/\Location:\nErnest N. Morial Convention Center\n\nNew Orleans, LA
X-ALT-DESC;FMTTYPE=text/html:WEFTEC 2026<br /><br />09/26/26 08:00 AM CST - 09/30/26 08:00 PM CST<br />Description:<br /><h2><strong>WEFTEC 2026</strong></h2>
<strong>September 26 - 30, 2026</strong><br />
<strong>Ernest N. Morial Convention Center (New Orleans, LA)</strong><br />
<br />
WEFTEC, the Water Environment Federation's Technical Exhibition and Conference, is the largest annual water quality exhibition in North America and offers water quality professionals the best water quality education and training available.<br />
<br />
WEFTEC is more than just a conference&mdash;it&rsquo;s an immersive experience that empowers attendees to positively impact the future of water quality and environmental sustainability.<br />
<br />
Join us to explore cutting-edge solutions, connect with sector leaders, and drive sustainable change. With expert insights, unparalleled networking opportunities, and groundbreaking innovations, WEFTEC empowers you to tackle today's challenges and shape the future of water and the environment.<br />
<br />
<strong>Hosted by the Water Environment Federation</strong><br />
For more information and to register, click here:&nbsp;<strong><a href="https://www.weftec.org/" target="_blank">https://www.weftec.org/</a></strong><br />Location:<br />Ernest N. Morial Convention Center<br /><br />New Orleans, LA 
PRIORITY:3
TRANSP:TRANSPARENT
BEGIN:VALARM
TRIGGER:-PT5M
ACTION:DISPLAY
DESCRIPTION:Reminder
END:VALARM
END:VEVENT
END:VCALENDAR
