BEGIN:VCALENDAR
VERSION:2.0
CALSCALE:GREGORIAN
METHOD:PUBLISH
PRODID://ADS//208320
BEGIN:VEVENT
DTSTAMP:20260423T143033
VTIMEZONE:America/Los_Angeles
DTSTART:20260328T160000Z
DTEND:20260328T220000Z
UID:208320
SUMMARY:Federation of Northwest Dahlia Growers - Spring Workshop
LOCATION:Agnus Dei Lutheran Church, Gig Harbor, WA
DESCRIPTION:Federation of Northwest Dahlia Growers - Spring Workshop\n\n03/28/26 09:00 AM PST\n - 03/28/26 03:00 PM PST\Description:\nOpen to Public\nFor More Information Visit Our Website at https://www.nwdahlia.org/.\Details:\nA day of dahlia related presentations. \nFree event\Location:\nAgnus Dei Lutheran Church\n\nGig Harbor, WA
X-ALT-DESC;FMTTYPE=text/html:Federation of Northwest Dahlia Growers - Spring Workshop<br /><br />03/28/26 09:00 AM PST - 03/28/26 03:00 PM PST<br />Description:<br />Open to Public<br />
For More Information Visit Our Website at&nbsp;<a href="https://www.nwdahlia.org/">https://www.nwdahlia.org/</a>.<br />Details:<br />A day of dahlia related presentations.&nbsp;<br />
Free event<br />Location:<br />Agnus Dei Lutheran Church<br /><br />Gig Harbor, WA 
PRIORITY:3
TRANSP:TRANSPARENT
BEGIN:VALARM
TRIGGER:-PT5M
ACTION:DISPLAY
DESCRIPTION:Reminder
END:VALARM
END:VEVENT
END:VCALENDAR
