BEGIN:VCALENDAR
VERSION:2.0
CALSCALE:GREGORIAN
METHOD:PUBLISH
PRODID://ADS//208321
BEGIN:VEVENT
DTSTAMP:20260419T105327
VTIMEZONE:America/Los_Angeles
DTSTART:20260919T140000Z
DTEND:20260920T210000Z
UID:208321
SUMMARY:North Central Washington Dahlia Society 2026 Annual Show
LOCATION:Pybus Public Market, 3. North Worthen, Wenatchee, WA, 98801
DESCRIPTION:North Central Washington Dahlia Society 2026 Annual Show\n\n09/19/26 07:00 AM PST\n - 09/20/26 02:00 PM PST\Description:\nPlease plan to join us at the Pybus Public Market, 3 North Worthen Street, Wenatchee, WA 98801 on September 19-20, 2026. We will accept entries on the 18th from 7:00 am-9:30 am on Saturday, with the judges' meeting beginning at 10 am. Official hours for the public will be 12 noon - 5 pm on Saturday and 9am - 2pm on Sunday. Please bring your entries staged and ready to place in the exhibition area. There will be a small staging area outside the entry prior to the beginning of the show, but you will need to supply your own vases and staging material. This is primarily for new exhibitors who need additional assistance preparing their entries. Details of the 2026 show, as well as other northwest dahlia shows  will be available on the Federation of NW Dahlia Growers website, www.nwdahlia.org this spring. Please plan to join us. More information about NCWDS can be found at www.ncwdahlias.org\Details:\nFREE to the public.\Location:\nPybus Public Market\n3. North Worthen\nWenatchee, WA 98801
X-ALT-DESC;FMTTYPE=text/html:North Central Washington Dahlia Society 2026 Annual Show<br /><br />09/19/26 07:00 AM PST - 09/20/26 02:00 PM PST<br />Description:<br />Please plan to join us at the Pybus Public Market, 3 North Worthen Street, Wenatchee, WA 98801 on&nbsp;September 19-20,&nbsp;2026. We will accept entries on the 18th from 7:00 am-9:30 am on Saturday, with the judges' meeting beginning at 10 am.&nbsp;Official hours for the public&nbsp;will be 12 noon - 5 pm on Saturday and 9am - 2pm on Sunday. Please bring your entries staged and ready to place in the exhibition area. There will be a small staging area outside the entry prior to the beginning of the show, but you will need to supply&nbsp;your own vases and staging material. This is primarily for new exhibitors who need additional assistance preparing their entries. Details of the 2026 show, as well as other northwest dahlia shows&nbsp; will be available on the Federation of NW Dahlia Growers website, www.nwdahlia.org this spring. Please plan to join us. More information about NCWDS can be found at www.ncwdahlias.org<br />Details:<br />FREE to the public.<br />Location:<br />Pybus Public Market<br />3. North Worthen<br />Wenatchee, WA 98801
PRIORITY:3
TRANSP:TRANSPARENT
BEGIN:VALARM
TRIGGER:-PT5M
ACTION:DISPLAY
DESCRIPTION:Reminder
END:VALARM
END:VEVENT
END:VCALENDAR
