BEGIN:VCALENDAR
VERSION:2.0
CALSCALE:GREGORIAN
METHOD:PUBLISH
PRODID://KYTN//208925
BEGIN:VEVENT
DTSTAMP:20260423T235602
VTIMEZONE:America/New_York
DTSTART:20260304T173000Z
DTEND:20260304T183000Z
UID:208925
SUMMARY:WEBINAR: Water Collaborative Delivery Introduction
LOCATION:
DESCRIPTION:WEBINAR: Water Collaborative Delivery Introduction\n\n03/04/26 12:30 PM EST\n - 03/04/26 01:30 PM EST
X-ALT-DESC;FMTTYPE=text/html:WEBINAR: Water Collaborative Delivery Introduction<br /><br />03/04/26 12:30 PM EST - 03/04/26 01:30 PM EST
PRIORITY:3
TRANSP:TRANSPARENT
BEGIN:VALARM
TRIGGER:-PT5M
ACTION:DISPLAY
DESCRIPTION:Reminder
END:VALARM
END:VEVENT
END:VCALENDAR
