BEGIN:VCALENDAR
VERSION:2.0
CALSCALE:GREGORIAN
METHOD:PUBLISH
PRODID://RMWE//209262
BEGIN:VEVENT
DTSTAMP:20260422T144049
VTIMEZONE:America/Denver
DTSTART:20260323T203000Z
DTEND:20260323T213000Z
UID:209262
SUMMARY:Colorado Analytical Laboratory PFAS Tour 
LOCATION:Colorado Analytical Laboratory , 10411 Heinz Way , Commerce City, CO, 80640
DESCRIPTION:Colorado Analytical Laboratory PFAS Tour \n\n03/23/26 02:30 PM MST\n - 03/23/26 03:30 PM MST\Description:\nPlease join the Lab Practices Committee for a tour of the new and long anticipated PFAS laboratory at Colorado Analytical! \Details:\nRegistration is limited to the first 20 people, so register soon! There will be a networking happy hour after the tour for those who would like to join. \n\nReach out to Seirra Potter if you are no longer able to attend after registering. \Location:\nColorado Analytical Laboratory \n10411 Heinz Way \nCommerce City, CO 80640
X-ALT-DESC;FMTTYPE=text/html:Colorado Analytical Laboratory PFAS Tour <br /><br />03/23/26 02:30 PM MST - 03/23/26 03:30 PM MST<br />Description:<br />Please join the Lab Practices Committee for a tour of the new and long anticipated&nbsp;PFAS&nbsp;laboratory at Colorado Analytical!&nbsp;<br />Details:<br />Registration is limited to the first 20 people, so register soon! There will be a networking happy hour after the tour for those who would like to join.&nbsp;<br />
<br />
Reach out to <a href="mailto:spotter@englewoodco.gov">Seirra Potter</a> if you are no longer able to attend after registering.&nbsp;<br />Location:<br />Colorado Analytical Laboratory <br />10411 Heinz Way <br />Commerce City, CO 80640
PRIORITY:3
TRANSP:TRANSPARENT
BEGIN:VALARM
TRIGGER:-PT5M
ACTION:DISPLAY
DESCRIPTION:Reminder
END:VALARM
END:VEVENT
END:VCALENDAR
