BEGIN:VCALENDAR
VERSION:2.0
CALSCALE:GREGORIAN
METHOD:PUBLISH
PRODID://ADS//209304
BEGIN:VEVENT
DTSTAMP:20260419T184251
VTIMEZONE:America/Los_Angeles
DTSTART:20260425T170000Z
DTEND:20260425T200000Z
UID:209304
SUMMARY:San Leandro Dahlia Society Tuber & Plant Sale 
LOCATION:Mulford Garden Park 13055 Aurora Drive, San Leandro, CA 
DESCRIPTION:San Leandro Dahlia Society Tuber & Plant Sale \n\n04/25/26 10:00 AM PST\n - 04/25/26 01:00 PM PST\Description:\nThe tuber and plant sale will take place at:\n\nMulford Garden Park \n13055 Aurora Drive (between Williams & Marina) \nSan Leandro, CA 94577\n\n\n \Details:\nTubers $8 +  sales tax\nPlants $12 + sales tax \nT-shirts $30 + sales tax \nMembership $10\n\nExpert growers will be on hand for planting demonstrations and dahlia cultivation education. \n\nThe San Leandro Dahlia Society is a 501(3)c non profit.  Donations are welcome to support our four community gardens and annual events. \Location:\nMulford Garden Park 13055 Aurora Drive, San Leandro, CA \n\n,
X-ALT-DESC;FMTTYPE=text/html:San Leandro Dahlia Society Tuber & Plant Sale <br /><br />04/25/26 10:00 AM PST - 04/25/26 01:00 PM PST<br />Description:<br />The tuber and plant sale will take place at:<br />
<br />
Mulford Garden Park&nbsp;<br />
13055 Aurora Drive (between Williams &amp; Marina)&nbsp;<br />
San Leandro, CA 94577<br />
<br />
<br />
&nbsp;<br />Details:<br />Tubers $8 +&nbsp; sales tax<br />
Plants $12 + sales tax&nbsp;<br />
T-shirts $30 + sales tax&nbsp;<br />
Membership $10<br />
<br />
Expert growers will be on hand for planting demonstrations and dahlia cultivation education.&nbsp;<br />
<br />
The San Leandro Dahlia Society is a 501(3)c non profit.&nbsp; Donations are welcome to support our four community gardens and annual events.&nbsp;<br />Location:<br />Mulford Garden Park 13055 Aurora Drive, San Leandro, CA <br /><br />,  
PRIORITY:3
TRANSP:TRANSPARENT
BEGIN:VALARM
TRIGGER:-PT5M
ACTION:DISPLAY
DESCRIPTION:Reminder
END:VALARM
END:VEVENT
END:VCALENDAR
