BEGIN:VCALENDAR
VERSION:2.0
CALSCALE:GREGORIAN
METHOD:PUBLISH
PRODID://ADS//209305
BEGIN:VEVENT
DTSTAMP:20260419T111651
VTIMEZONE:America/Los_Angeles
DTSTART:20260606T170000Z
DTEND:20260606T233000Z
UID:209305
SUMMARY:San Leandro Cherry Festival 
LOCATION:384 W. Estudillo Avenue San Leandro, CA 94577
DESCRIPTION:San Leandro Cherry Festival \n\n06/06/26 10:00 AM PST\n - 06/06/26 04:30 PM PST\Description:\nThe San Leandro Dahlia Society booth at the Cherry Festival will be located in front of the \n\nCasa Peralta Historical Site\n384 W. Estudillo Avenue\nSan Leandro, CA 94577\n\nThe booth is adjacent to the front gate of the Casa Peralta community dahlia garden. \n\nDahlia Society members will be selling, dahlia tubers, small and medium plants and T-shirts to support club events including the annual\nSan Leandro Dahlia Society Show scheduled for September 5 & 6, 2026 at the Gardens of Lake Merritt in Oakland. \n\nDahlia tubers, small and large plants, T-Shirts and dahlia merchandise will be for sale at competitive prices.\nExpert growers will provide dahlia dahlia growing advice and education. \n\nThe San Leandro Dahlia Society is a 501(3)c non profit.  Donations are welcome to support our four community gardens and annual events. \n\nFind us on Facebook & Instagram \n\n \Details:\nThe San Leandro Cherry Festival is a large free community event featuring a parade, food and craft vendors, a cherry pie contests and musical entertainment. \nThe San Leandro Dahlia Society is proud to be part of this local event that brings people together to celebrate.  The dahlia is the official flower of the City of San Leandro.\nThe event is located over several city blocks and is located one block from the downtown BART station.  Parade, event and parking information will be available through the City of San Leandro website. https://www.sanleandro.org/\Location:\n384 W. Estudillo Avenue San Leandro, CA 94577\n\n,
X-ALT-DESC;FMTTYPE=text/html:San Leandro Cherry Festival <br /><br />06/06/26 10:00 AM PST - 06/06/26 04:30 PM PST<br />Description:<br />The San Leandro Dahlia Society booth at the Cherry Festival will be located in front of the&nbsp;<br />
<br />
Casa Peralta Historical Site<br />
384 W. Estudillo Avenue<br />
San Leandro, CA 94577<br />
<br />
The booth is adjacent to the front gate of the Casa Peralta&nbsp;community dahlia garden.&nbsp;<br />
<br />
Dahlia Society members will be selling, dahlia tubers, small and medium plants and T-shirts to support club events including the annual<br />
San Leandro Dahlia Society Show scheduled for September 5 &amp; 6, 2026 at the Gardens of Lake Merritt in Oakland.&nbsp;<br />
<br />
Dahlia tubers, small and large plants, T-Shirts and dahlia merchandise will be for sale at competitive prices.<br />
Expert growers will provide dahlia dahlia growing advice and education.&nbsp;<br />
<br />
The San Leandro Dahlia Society is a 501(3)c non profit.&nbsp; Donations are welcome to support our four community gardens and annual events.&nbsp;<br />
<br />
Find us on Facebook &amp; Instagram&nbsp;<br />
<br />
&nbsp;<br />Details:<br />The San Leandro Cherry Festival is a large free community event featuring a parade, food and craft vendors, a cherry pie contests and musical entertainment.&nbsp;<br />
The San Leandro Dahlia Society is proud to be part of this local event that brings people together to celebrate.&nbsp; The dahlia is the official flower of the City of San Leandro.<br />
The event is located over several city blocks and is located one block from the downtown BART station.&nbsp; Parade, event and parking information will be available through the City of San Leandro website.&nbsp;https://www.sanleandro.org/<br />Location:<br />384 W. Estudillo Avenue San Leandro, CA 94577<br /><br />,  
PRIORITY:3
TRANSP:TRANSPARENT
BEGIN:VALARM
TRIGGER:-PT5M
ACTION:DISPLAY
DESCRIPTION:Reminder
END:VALARM
END:VEVENT
END:VCALENDAR
