BEGIN:VCALENDAR
VERSION:2.0
CALSCALE:GREGORIAN
METHOD:PUBLISH
PRODID://ADS//209307
BEGIN:VEVENT
DTSTAMP:20260419T200949
VTIMEZONE:America/New_York
DTSTART:20260827T130000Z
DTEND:20260901T034500Z
UID:209307
SUMMARY:2026 ADS National show
LOCATION:Frederik Meijer Gardens and Sculpture Park , 1000 E Beltline Ave NE, Grand Rapids , MI, 49525
DESCRIPTION:2026 ADS National show\n\n08/27/26 09:00 AM EST\n - 08/31/26 11:45 PM EST\Description:\n2026 ADS National Show\Details:\nfor the latest info, go to\nwww.westmidahlia.com\Location:\nFrederik Meijer Gardens and Sculpture Park \n1000 E Beltline Ave NE\nGrand Rapids , MI 49525
X-ALT-DESC;FMTTYPE=text/html:2026 ADS National show<br /><br />08/27/26 09:00 AM EST - 08/31/26 11:45 PM EST<br />Description:<br />2026 ADS National Show<br />Details:<br />for the latest info, go to<br />
www.westmidahlia.com<br />Location:<br />Frederik Meijer Gardens and Sculpture Park <br />1000 E Beltline Ave NE<br />Grand Rapids , MI 49525
PRIORITY:3
TRANSP:TRANSPARENT
BEGIN:VALARM
TRIGGER:-PT5M
ACTION:DISPLAY
DESCRIPTION:Reminder
END:VALARM
END:VEVENT
END:VCALENDAR
