BEGIN:VCALENDAR
VERSION:2.0
CALSCALE:GREGORIAN
METHOD:PUBLISH
PRODID://ADS//209308
BEGIN:VEVENT
DTSTAMP:20260419T201633
VTIMEZONE:America/Los_Angeles
DTSTART:20260912T130000Z
DTEND:20260914T000000Z
UID:209308
SUMMARY:Portland Dahlia Society Annual Show
LOCATION:Gateway-Gresham Elks #1805, 3330 NE Division Street, Portland, Or, 97030
DESCRIPTION:Portland Dahlia Society Annual Show\n\n09/12/26 06:00 AM PST\n - 09/13/26 05:00 PM PST\Description:\nPortland Dahlia Society Annual Show\nGateway-Gresham Elks #1805\n3330 NE Division Street\nPortland, OR 97030\n \Details:\nSaturday: 9/12/2026\n6:00 a.m. - 9:00 a.m. Horticulture and Design entry \n9:30 a.m. - Judging begins\n12:00 p.m. - Show opens to public\n5:00 p.m. - Show closes to public\n\nSunday: 9/13/2026\n10:00 a.m. Show opens to public\n2:30 - 3:30 p.m. Awards Presentation\n3:30 p.m. Show closes to public\n3:30 - 4:30 p.m. Clean up show\nJudges & Clerks contact: Mark Oldenkamp - dahliafan57@gmail.com\nShow Coordinator contact: Eric Toedtli - etoedtli@yahoo.com\n \Location:\nGateway-Gresham Elks #1805\n3330 NE Division Street\nPortland, Or 97030
X-ALT-DESC;FMTTYPE=text/html:Portland Dahlia Society Annual Show<br /><br />09/12/26 06:00 AM PST - 09/13/26 05:00 PM PST<br />Description:<br />Portland Dahlia Society Annual Show<br />
Gateway-Gresham Elks #1805<br />
3330 NE Division Street<br />
Portland, OR 97030<br />
&nbsp;<br />Details:<br /><strong>Saturday: 9/12/2026</strong><br />
6:00 a.m. - 9:00 a.m.&nbsp;Horticulture and Design entry&nbsp;<br />
9:30 a.m. - Judging begins<br />
12:00 p.m. - Show opens to public<br />
5:00 p.m. - Show closes to public<br />
<br />
<strong>Sunday: 9/13/2026<br />
10:00&nbsp;</strong>a.m. Show opens to public<br />
2:30 - 3:30 p.m. Awards Presentation<br />
3:30 p.m. Show closes to public<br />
3:30 - 4:30 p.m. Clean up show<br />
<strong>Judges &amp; Clerks contact: Mark Oldenkamp - dahliafan57@gmail.com<br />
Show Coordinator contact: Eric Toedtli - etoedtli@yahoo.com</strong><br />
&nbsp;<br />Location:<br />Gateway-Gresham Elks #1805<br />3330 NE Division Street<br />Portland, Or 97030
PRIORITY:3
TRANSP:TRANSPARENT
BEGIN:VALARM
TRIGGER:-PT5M
ACTION:DISPLAY
DESCRIPTION:Reminder
END:VALARM
END:VEVENT
END:VCALENDAR
