BEGIN:VCALENDAR
VERSION:2.0
CALSCALE:GREGORIAN
METHOD:PUBLISH
PRODID://CHEM//209359
BEGIN:VEVENT
DTSTAMP:20260422T215338
VTIMEZONE:America/New_York
DTSTART:20260324T230000Z
DTEND:20260325T020000Z
UID:209359
SUMMARY:Solstice Advanced Materials at Cooper Union
LOCATION:Cooper Union, 41 Cooper Square, New York, NY, 10003
DESCRIPTION:Solstice Advanced Materials at Cooper Union\n\n03/24/26 07:00 PM EST\n - 03/24/26 10:00 PM EST\Location:\nCooper Union\n41 Cooper Square\nNew York, NY 10003
X-ALT-DESC;FMTTYPE=text/html:Solstice Advanced Materials at Cooper Union<br /><br />03/24/26 07:00 PM EST - 03/24/26 10:00 PM EST<br />Location:<br />Cooper Union<br />41 Cooper Square<br />New York, NY 10003
PRIORITY:3
TRANSP:TRANSPARENT
BEGIN:VALARM
TRIGGER:-PT5M
ACTION:DISPLAY
DESCRIPTION:Reminder
END:VALARM
END:VEVENT
END:VCALENDAR
