BEGIN:VCALENDAR
VERSION:2.0
CALSCALE:GREGORIAN
METHOD:PUBLISH
PRODID://NABC//210032
BEGIN:VEVENT
DTSTAMP:20260422T140750
VTIMEZONE:America/Chicago
DTSTART:20260421T190000Z
DTEND:20260421T210000Z
UID:210032
SUMMARY:Lunch and Lead with Cheryl Siemers, Chancellor University of Alaska Anchorage
LOCATION:Zoom, https://us02web.zoom.us/j/2687362268?omn=86158820018
DESCRIPTION:Lunch and Lead with Cheryl Siemers, Chancellor University of Alaska Anchorage\n\n04/21/26 02:00 PM CST\n - 04/21/26 04:00 PM CST\Description:\nJoin us for our April Lunch and Lead\n\nTuesday, April 21, 2026\n2 - 4p.m .ET\n\nFeaturing Chancellor Cheryl Siemers, University of Alaska Anchorage\Location:\nZoom\nhttps://us02web.zoom.us/j/2687362268?omn=86158820018\n,
X-ALT-DESC;FMTTYPE=text/html:Lunch and Lead with Cheryl Siemers, Chancellor University of Alaska Anchorage<br /><br />04/21/26 02:00 PM CST - 04/21/26 04:00 PM CST<br />Description:<br /><span style="font-size:16px">Join us for our April Lunch and Lead<br />
<br />
Tuesday, April 21, 2026<br />
2 - 4p.m .ET<br />
<br />
Featuring Chancellor Cheryl Siemers, University of Alaska Anchorage</span><br />Location:<br />Zoom<br />https://us02web.zoom.us/j/2687362268?omn=86158820018<br />,  
PRIORITY:3
TRANSP:TRANSPARENT
BEGIN:VALARM
TRIGGER:-PT5M
ACTION:DISPLAY
DESCRIPTION:Reminder
END:VALARM
END:VEVENT
END:VCALENDAR
